{"text_format":"1","workbook":"xlsx","n_sheets":3,"sheets":["10問（印刷用）","５０問（印刷用）","問題"],"not_rendered":{"charts":0,"images":0,"macros":1,"external_links":0,"defined_names":2,"comments":0,"pivot_tables":0},"unopened":[],"bounds":{"document_bytes":16777216,"sheet_cells":100000,"rows_first":2000,"rows_last":500,"rows_between":2000,"halvings":0,"cell_chars":16384,"cell_head_chars":4096},"cells_cut":0,"cells_raw":0,"read":"whole","date_system":"1900"}

{"sheet":"10問（印刷用）","index":0,"n_rows":16,"n_cols":12,"rows_kept":16,"cut":false,"hidden":false,"merged":[[0,11,26,11],[15,8,25,8],[15,9,25,9],[1,6,14,6],[1,7,14,7],[0,10,26,10],[15,0,25,0],[15,1,25,1],[1,8,14,8],[1,9,14,9],[15,7,25,7],[15,2,25,2],[15,5,25,5],[15,6,25,6],[15,3,25,3],[15,4,25,4],[1,0,14,0],[1,1,14,1],[1,2,14,2],[1,3,14,3],[1,4,14,4],[1,5,14,5]]}
[10,9,8,7,6,5,4,3,2,1,"（）のなかのひらがなをかんじやかんじとひらがなでかきましましょう。","かんじプリント　　　　　（　　　　　　　　　　　　　　）　　　"]
[{"$f":"'５０問（印刷用）'!P2","v":"あせが（でる）"},{"$f":"'５０問（印刷用）'!Q2","v":"おとうとは（みっつ）になった"},{"$f":"'５０問（印刷用）'!R2","v":"（もり）をあるく"},{"$f":"'５０問（印刷用）'!S2","v":"（おんな）のこ"},{"$f":"'５０問（印刷用）'!T2","v":"（め）をとじる"},{"$f":"'５０問（印刷用）'!U2","v":"（とお）かはがっこうがやすみだ"},{"$f":"'５０問（印刷用）'!V2","v":"（むし）をつかまえる"},{"$f":"'５０問（印刷用）'!W2","v":"つくえの（した）"},{"$f":"'５０問（印刷用）'!X2","v":"（つち）をほる"},{"$f":"'５０問（印刷用）'!Y2","v":"あねは（はっさい）だ"}]
[]
[]
[]
[]
[]
[]
[]
[]
[]
[]
[]
[]
[]
[{"$f":"'５０問（印刷用）'!P3","v":"出る"},{"$f":"'５０問（印刷用）'!Q3","v":"三つ"},{"$f":"'５０問（印刷用）'!R3","v":"森"},{"$f":"'５０問（印刷用）'!S3","v":"女"},{"$f":"'５０問（印刷用）'!T3","v":"目"},{"$f":"'５０問（印刷用）'!U3","v":"十"},{"$f":"'５０問（印刷用）'!V3","v":"虫"},{"$f":"'５０問（印刷用）'!W3","v":"下"},{"$f":"'５０問（印刷用）'!X3","v":"土"},{"$f":"'５０問（印刷用）'!Y3","v":"八さい"}]

{"sheet":"５０問（印刷用）","index":1,"n_rows":12,"n_cols":27,"rows_kept":12,"cut":false,"hidden":false,"merged":[[126,0,136,0],[201,0,211,0],[187,0,200,0],[176,0,186,0],[151,0,161,0],[137,0,150,0],[0,26,26,26],[51,0,61,0],[37,0,50,0],[101,0,111,0],[26,0,36,0],[87,0,100,0],[76,0,86,0],[0,25,26,25]]}
[25,24,23,22,21,20,19,18,17,16,15,14,13,12,11,10,9,8,7,6,5,4,3,2,1,"（）のなかのひらがなをかんじやかんじとひらがなでかきましましょう。","かんじプリント　　　　　（　　　　　　　　　　　　　　）　　　"]
[{"$f":"問題!$D$26","v":"（かわ）でおよぐ"},{"$f":"問題!$D$25","v":"かわいい（ななつ）のこ"},{"$f":"問題!$D$24","v":"かん（じ）をおぼえる"},{"$f":"問題!$D$23","v":"（ろっかい）もまちがえる"},{"$f":"問題!$D$22","v":"（ただしい）よみかた"},{"$f":"問題!$D$21","v":"ねこが（さん）びきいる"},{"$f":"問題!$D$20","v":"あおい（そら）"},{"$f":"問題!$D$19","v":"（おとこ）のこ"},{"$f":"問題!$D$18","v":"（てん）までとどく"},{"$f":"問題!$D$17","v":"がっこうを（やすむ）"},{"$f":"問題!$D$16","v":"（おおきな）くも"},{"$f":"問題!$D$15","v":"（て）をつなぐ"},{"$f":"問題!$D$14","v":"（ちいさな）さかな"},{"$f":"問題!$D$13","v":"（じゅう）にんあつまる"},{"$f":"問題!$D$12","v":"（き）にのぼる"},{"$f":"問題!$D$11","v":"あせが（でる）"},{"$f":"問題!$D$10","v":"おとうとは（みっつ）になった"},{"$f":"問題!$D$9","v":"（もり）をあるく"},{"$f":"問題!$D$8","v":"（おんな）のこ"},{"$f":"問題!$D$7","v":"（め）をとじる"},{"$f":"問題!$D$6","v":"（とお）かはがっこうがやすみだ"},{"$f":"問題!$D$5","v":"（むし）をつかまえる"},{"$f":"問題!$D$4","v":"つくえの（した）"},{"$f":"問題!$D$3","v":"（つち）をほる"},{"$f":"問題!$D$2","v":"あねは（はっさい）だ"}]
[{"$f":"問題!$E$26","v":"川"},{"$f":"問題!$E$25","v":"七つ"},{"$f":"問題!$E$24","v":"字"},{"$f":"問題!$E$23","v":"六かい"},{"$f":"問題!$E$22","v":"正しい"},{"$f":"問題!$E$21","v":"三"},{"$f":"問題!$E$20","v":"空"},{"$f":"問題!$E$19","v":"男"},{"$f":"問題!$E$18","v":"天"},{"$f":"問題!$E$17","v":"休む"},{"$f":"問題!$E$16","v":"大きな"},{"$f":"問題!$E$15","v":"手"},{"$f":"問題!$E$14","v":"小さな"},{"$f":"問題!$E$13","v":"十"},{"$f":"問題!$E$12","v":"木"},{"$f":"問題!$E$11","v":"出る"},{"$f":"問題!$E$10","v":"三つ"},{"$f":"問題!$E$9","v":"森"},{"$f":"問題!$E$8","v":"女"},{"$f":"問題!$E$7","v":"目"},{"$f":"問題!$E$6","v":"十"},{"$f":"問題!$E$5","v":"虫"},{"$f":"問題!$E$4","v":"下"},{"$f":"問題!$E$3","v":"土"},{"$f":"問題!$E$2","v":"八さい"}]
[50,49,48,47,46,45,44,43,42,41,40,39,38,37,36,35,34,33,32,31,30,29,28,27,26]
[{"$f":"問題!$D$27","v":"なしを（やっつ）かった"},{"$f":"問題!$D$28","v":"（やま）にのぼる"},{"$f":"問題!$D$29","v":"みかんが（きゅう）こある"},{"$f":"問題!$D$30","v":"（つき）があかるい"},{"$f":"問題!$D$31","v":"やねの（うえ）"},{"$f":"問題!$D$32","v":"（くち）をあける"},{"$f":"問題!$D$33","v":"（しち）ごさんのおまいり"},{"$f":"問題!$D$34","v":"（か）ようび"},{"$f":"問題!$D$35","v":"たんじょう（び）"},{"$f":"問題!$D$36","v":"（ここのつ）のやまをこえた"},{"$f":"問題!$D$37","v":"（ひ）をけす"},{"$f":"問題!$D$38","v":"ほんを（に）さつかった"},{"$f":"問題!$D$39","v":"えんぴつを（ご）ほんかう"},{"$f":"問題!$D$40","v":"（がっこう）にかよう"},{"$f":"問題!$D$41","v":"（ふたつ）めのえき"},{"$f":"問題!$D$42","v":"（くるま）にのる"},{"$f":"問題!$D$43","v":"（きん）のゆびわ"},{"$f":"問題!$D$44","v":"（ちから）がでない"},{"$f":"問題!$D$45","v":"あめを（いっこ）もらう"},{"$f":"問題!$D$46","v":"いもうととは（よっつ）ちがいだ"},{"$f":"問題!$D$47","v":"（はやし）にはいる"},{"$f":"問題!$D$48","v":"そらを（みる）"},{"$f":"問題!$D$49","v":"（こ）どもとあそぶ"},{"$f":"問題!$D$50","v":"こえを（だす）"},{"$f":"問題!$D$51","v":"（た）んぼで　こめをつくる"}]
[{"$f":"問題!$E$27","v":"八つ"},{"$f":"問題!$E$28","v":"山"},{"$f":"問題!$E$29","v":"九"},{"$f":"問題!$E$30","v":"月"},{"$f":"問題!$E$31","v":"上"},{"$f":"問題!$E$32","v":"口"},{"$f":"問題!$E$33","v":"七"},{"$f":"問題!$E$34","v":"火"},{"$f":"問題!$E$35","v":"日"},{"$f":"問題!$E$36","v":"九つ"},{"$f":"問題!$E$37","v":"火"},{"$f":"問題!$E$38","v":"二"},{"$f":"問題!$E$39","v":"五つ"},{"$f":"問題!$E$40","v":"学校"},{"$f":"問題!$E$41","v":"二つ"},{"$f":"問題!$E$42","v":"車"},{"$f":"問題!$E$43","v":"金"},{"$f":"問題!$E$44","v":"力"},{"$f":"問題!$E$45","v":"一こ"},{"$f":"問題!$E$46","v":"四つ"},{"$f":"問題!$E$47","v":"林"},{"$f":"問題!$E$48","v":"見る"},{"$f":"問題!$E$49","v":"子"},{"$f":"問題!$E$50","v":"出す"},{"$f":"問題!$E$51","v":"田"}]
[75,74,73,72,71,70,69,68,67,66,65,64,63,62,61,60,59,58,57,56,55,54,53,52,51]
[{"$f":"問題!$D$52","v":"（いつつ）めのかど"},{"$f":"問題!$D$53","v":"りんごを（ひとつ）たべる"},{"$f":"問題!$D$54","v":"（あめ）がふる"},{"$f":"問題!$D$55","v":"かきが（むっつ）なる"},{"$f":"問題!$D$56","v":"とうふを（し）かくにきる"},{"$f":"問題!$D$57","v":"いえの（なか）であそぶ"},{"$f":"問題!$D$58","v":"（ひと）にぶつかる"},{"$f":"問題!$D$59","v":"（たけ）とんぼ"},{"$f":"問題!$D$60","v":"（あおい）そら"},{"$f":"問題!$D$61","v":"（みず）をのむ"},{"$f":"問題!$D$62","v":"（ほん）をよむ"},{"$f":"問題!$D$63","v":"（いぬ）をかう"},{"$f":"問題!$D$64","v":"おきるのが（はやい）"},{"$f":"問題!$D$66","v":"（な）まえをかく"},{"$f":"問題!$D$67","v":"（ゆう）やけがきれいだ"},{"$f":"問題!$D$68","v":"（まち）でかいものをする"},{"$f":"問題!$D$70","v":"（ひゃくえん）のおかし"},{"$f":"問題!$D$71","v":"（せん）ねんもむかし"},{"$f":"問題!$D$72","v":"（いと）をきる"},{"$f":"問題!$D$73","v":"（き）もちがよい"},{"$f":"問題!$D$74","v":"おとし（だま）"},{"$f":"問題!$D$75","v":"ちいさな（むら）"},{"$f":"問題!$D$76","v":"（しろい）ぼうし"},{"$f":"問題!$D$77","v":"（おと）をたてずにあるく"},{"$f":"問題!$D$78","v":"ながい（ぶん）をよむ"}]
[{"$f":"問題!$E$52","v":"五つ"},{"$f":"問題!$E$53","v":"一つ"},{"$f":"問題!$E$54","v":"雨"},{"$f":"問題!$E$55","v":"六つ"},{"$f":"問題!$E$56","v":"四"},{"$f":"問題!$E$57","v":"中"},{"$f":"問題!$E$58","v":"人"},{"$f":"問題!$E$59","v":"竹"},{"$f":"問題!$E$60","v":"青"},{"$f":"問題!$E$61","v":"水"},{"$f":"問題!$E$62","v":"本"},{"$f":"問題!$E$63","v":"犬"},{"$f":"問題!$E$64","v":"早い"},{"$f":"問題!$E$66","v":"名"},{"$f":"問題!$E$67","v":"夕"},{"$f":"問題!$E$68","v":"町"},{"$f":"問題!$E$70","v":"百円"},{"$f":"問題!$E$71","v":"千"},{"$f":"問題!$E$72","v":"糸"},{"$f":"問題!$E$73","v":"気"},{"$f":"問題!$E$74","v":"玉"},{"$f":"問題!$E$75","v":"村"},{"$f":"問題!$E$76","v":"白"},{"$f":"問題!$E$77","v":"音"},{"$f":"問題!$E$78","v":"文"}]
[100,99,98,97,96,95,94,93,92,91,90,89,88,87,86,85,84,83,82,81,80,79,78,77,76]
[{"$f":"問題!$D$79","v":"（あか）ぐみがかつ"},{"$f":"問題!$D$80","v":"きのう（うまれた）いぬ"},{"$f":"問題!$D$81","v":"（みみ）をふさぐ"},{"$f":"問題!$D$82","v":"（おう）さまにあう"},{"$f":"問題!$D$83","v":"（とし）をとる"},{"$f":"問題!$D$84","v":"いち（ねん）せい"},{"$f":"問題!$D$85","v":"（くさ）をぬく"},{"$f":"問題!$D$86","v":"（かい）のはいったみそしる"},{"$f":"問題!$D$87","v":"いえに（はいる）"},{"$f":"問題!$D$88","v":"（みぎ）てをあげる"},{"$f":"問題!$D$89","v":"（ひだり）にまがる"},{"$f":"問題!$D$90","v":"（あし）がはやい"},{"$f":"問題!$D$91","v":"（いし）をなげる"},{"$f":"問題!$D$92","v":"ならんで（たつ）"},{"$f":"問題!$D$93","v":"きれいな（はな）"},{"$f":"問題!$D$95","v":"（せんせい）とはなす"},{"$f":"問題!$D$96","v":0},{"$f":"問題!$D$97","v":0},{"$f":"問題!$D$98","v":0},{"$f":"問題!$D$99","v":0},{"$f":"問題!$D$100","v":0},{"$f":"問題!$D$101","v":0},{"$f":"問題!$D$102","v":0},{"$f":"問題!$D$103","v":0},{"$f":"問題!$D$104","v":0}]
[{"$f":"問題!$E$79","v":"赤"},{"$f":"問題!$E$80","v":"生まれた"},{"$f":"問題!$E$81","v":"耳"},{"$f":"問題!$E$82","v":"王"},{"$f":"問題!$E$83","v":"年"},{"$f":"問題!$E$84","v":"年"},{"$f":"問題!$E$85","v":"草"},{"$f":"問題!$E$86","v":"貝"},{"$f":"問題!$E$87","v":"入る"},{"$f":"問題!$E$88","v":"右"},{"$f":"問題!$E$89","v":"左"},{"$f":"問題!$E$90","v":"足"},{"$f":"問題!$E$91","v":"石"},{"$f":"問題!$E$92","v":"立つ"},{"$f":"問題!$E$93","v":"花"},{"$f":"問題!$E$95","v":"先生"},{"$f":"問題!$E$96","v":0},{"$f":"問題!$E$97","v":0},{"$f":"問題!$E$98","v":0},{"$f":"問題!$E$99","v":0},{"$f":"問題!$E$100","v":0},{"$f":"問題!$E$101","v":0},{"$f":"問題!$E$102","v":0},{"$f":"問題!$E$103","v":0},{"$f":"問題!$E$104","v":0}]

{"sheet":"問題","index":2,"n_rows":95,"n_cols":12,"rows_kept":95,"cut":false,"hidden":true,"merged":[]}
["単","通","乱","問","答"]
[1,19,{"$f":"RAND()","v":0.8343137283646217},"あねは（はっさい）だ","八さい",1]
[4,57,0.39738707217181413,"（つち）をほる","土",null,null,null,1]
[2,29,0.87147096180775407,"つくえの（した）","下",null,1]
[1,24,0.79650016718441985,"（むし）をつかまえる","虫",1]
[1,22,0.31417227570251971,"（とお）かはがっこうがやすみだ","十",1]
[1,3,0.72945137703004659,"（め）をとじる","目",1]
[3,40,2.8594773676935636E-2,"（おんな）のこ","女",null,null,1]
[2,34,0.95150485242608063,"（もり）をあるく","森",null,1]
[1,9,0.45578665020815656,"おとうとは（みっつ）になった","三つ",1]
[4,52,0.45624970565460177,"あせが（でる）","出る",null,null,null,1]
[1,1,0.91782351476934609,"（き）にのぼる","木",1]
[1,23,0.3097203275717747,"（じゅう）にんあつまる","十",1]
[4,59,8.81393125130987E-2,"（ちいさな）さかな","小さな",null,null,null,1]
[3,41,0.21529461159246288,"（て）をつなぐ","手",null,null,1]
[3,38,0.6372907161799396,"（おおきな）くも","大きな",null,null,1]
[4,60,0.25051921610339034,"がっこうを（やすむ）","休む",null,null,null,1]
[3,42,0.70948883269370633,"（てん）までとどく","天",null,null,1]
[3,39,7.4893462431477653E-2,"（おとこ）のこ","男",null,null,1]
[3,37,0.86252283427732235,"あおい（そら）","空",null,null,1]
[1,8,0.44632292389692074,"ねこが（さん）びきいる","三",1]
[3,46,0.72570223310262816,"（ただしい）よみかた","正しい",null,null,1]
[1,15,0.1261760999999112,"（ろっかい）もまちがえる","六かい",1]
[3,45,0.17368480085627924,"かん（じ）をおぼえる","字",null,null,1]
[1,16,0.17946870922931402,"かわいい（ななつ）のこ","七つ",1]
[2,32,0.29504039758251144,"（かわ）でおよぐ","川",null,1]
[1,18,0.21840844902228718,"なしを（やっつ）かった","八つ",1]
[2,25,0.98739020084872597,"（やま）にのぼる","山",null,1]
[1,21,0.2404096439631781,"みかんが（きゅう）こある","九",1]
[2,35,0.97309192042862058,"（つき）があかるい","月",null,1]
[2,28,0.57522965441391172,"やねの（うえ）","上",null,1]
[1,2,0.75511647838369711,"（くち）をあける","口",1]
[1,17,0.29807784292166273,"（しち）ごさんのおまいり","七",1]
[4,55,{"$f":"RAND()","v":0.25256412626715119},"（か）ようび","火",null,null,null,1]
[4,51,0.24144421697610363,"たんじょう（び）","日",null,null,null,1]
[1,20,0.99500275001744187,"（ここのつ）のやまをこえた","九つ",1]
[4,54,0.21750643992038665,"（ひ）をけす","火",null,null,null,1]
[1,6,0.38946860856816135,"ほんを（に）さつかった","二",1]
[1,13,7.1348440118072731E-2,"えんぴつを（ご）ほんかう","五つ",1]
[3,44,0.44396179942642466,"（がっこう）にかよう","学校",null,null,1]
[1,7,0.28009465828878721,"（ふたつ）めのえき","二つ",1]
[4,48,0.7803308424455353,"（くるま）にのる","車",null,null,null,1]
[4,56,0.14687653998395145,"（きん）のゆびわ","金",null,null,null,1]
[4,50,0.99032263074047666,"（ちから）がでない","力",null,null,null,1]
[1,5,0.46972550050616579,"あめを（いっこ）もらう","一こ",1]
[1,10,9.796582333998427E-2,"いもうととは（よっつ）ちがいだ","四つ",1]
[2,33,0.35094804366115984,"（はやし）にはいる","林",null,1]
[3,43,6.1103718404351248E-2,"そらを（みる）","見る",null,null,1]
[3,36,0.59147187861437134,"（こ）どもとあそぶ","子",null,null,1]
[4,53,0.22716092493781781,"こえを（だす）","出す",null,null,null,1]
[2,31,0.5194011437246715,"（た）んぼで　こめをつくる","田",null,1]
[1,12,0.68871418312896515,"（いつつ）めのかど","五つ",1]
[1,4,0.19368480730292814,"りんごを（ひとつ）たべる","一つ",1]
[2,27,0.44501220200229297,"（あめ）がふる","雨",null,1]
[1,14,0.46258889676825787,"かきが（むっつ）なる","六つ",1]
[1,11,0.84645074856211078,"とうふを（し）かくにきる","四",1]
[4,49,0.8336552700225609,"いえの（なか）であそぶ","中",null,null,null,1]
[4,47,0.48087726036469136,"（ひと）にぶつかる","人",null,null,null,1]
[2,30,7.8805917891208721E-2,"（たけ）とんぼ","竹",null,1]
[4,58,0.96779461860948368,"（あおい）そら","青",null,null,null,1]
[2,26,0.93739040035639709,"（みず）をのむ","水",null,1]
[5,61,0.55783769106451686,"（ほん）をよむ","本",null,null,null,null,1]
[5,62,0.42098279842245379,"（いぬ）をかう","犬",null,null,null,null,1]
[5,63,0.38250561466170496,"おきるのが（はやい）","早い",null,null,null,null,1]
[5,64,0.49702808084351491,"（はや）おきをする","早",null,null,null,null,1]
[5,65,{"$f":"RAND()","v":0.56863006012512418},"（な）まえをかく","名",null,null,null,null,1]
[5,66,0.92852788121032115,"（ゆう）やけがきれいだ","夕",null,null,null,null,1]
[5,67,0.62530910155312314,"（まち）でかいものをする","町",null,null,null,null,1]
[5,68,0.70124442656667896,"えんぴつを（じっぽん）かう","十本",null,null,null,null,1]
[5,69,0.59756721526590251,"（ひゃくえん）のおかし","百円",null,null,null,null,1]
[5,70,0.79792407232683082,"（せん）ねんもむかし","千",null,null,null,null,1]
[6,71,0.44705128153085372,"（いと）をきる","糸",null,null,null,null,null,1]
[6,72,0.22103444718526122,"（き）もちがよい","気",null,null,null,null,null,1]
[6,73,0.47562176772305254,"おとし（だま）","玉",null,null,null,null,null,1]
[6,74,0.34979705122330174,"ちいさな（むら）","村",null,null,null,null,null,1]
[6,75,0.97484497226786693,"（しろい）ぼうし","白",null,null,null,null,null,1]
[6,76,0.93397466224823755,"（おと）をたてずにあるく","音",null,null,null,null,null,1]
[6,77,0.71205178304407069,"ながい（ぶん）をよむ","文",null,null,null,null,null,1]
[6,78,0.49505696802616495,"（あか）ぐみがかつ","赤",null,null,null,null,null,1]
[6,79,0.48388230138325838,"きのう（うまれた）いぬ","生まれた",null,null,null,null,null,1]
[6,80,0.83236961572534274,"（みみ）をふさぐ","耳",null,null,null,null,null,1]
[6,81,0.42868779115011524,"（おう）さまにあう","王",null,null,null,null,null,1]
[6,82,0.98174337861765859,"（とし）をとる","年",null,null,null,null,null,1]
[6,83,0.28645125443863984,"いち（ねん）せい","年",null,null,null,null,null,1]
[6,84,0.75031865280075616,"（くさ）をぬく","草",null,null,null,null,null,1]
[7,85,0.79019843894743225,"（かい）のはいったみそしる","貝",null,null,null,null,null,null,1]
[7,86,0.28387900068899086,"いえに（はいる）","入る",null,null,null,null,null,null,1]
[7,87,0.93798111994040967,"（みぎ）てをあげる","右",null,null,null,null,null,null,1]
[7,88,0.78181136951208663,"（ひだり）にまがる","左",null,null,null,null,null,null,1]
[7,89,0.8765637839691891,"（あし）がはやい","足",null,null,null,null,null,null,1]
[7,90,0.99169495500035443,"（いし）をなげる","石",null,null,null,null,null,null,1]
[7,91,0.57714370749001309,"ならんで（たつ）","立つ",null,null,null,null,null,null,1]
[7,92,0.21636754806711,"きれいな（はな）","花",null,null,null,null,null,null,1]
[7,93,0.8631852146908896,"（くさばな）をかんさつする","草花",null,null,null,null,null,null,1]
[7,94,0.33789564104078551,"（せんせい）とはなす","先生",null,null,null,null,null,null,1]