{"text_format":"1","workbook":"xlsx","n_sheets":4,"sheets":["１４問（印刷用）","10問（印刷用）","５０問（印刷用）","問題"],"not_rendered":{"charts":0,"images":0,"macros":1,"external_links":0,"defined_names":3,"comments":0,"pivot_tables":0},"unopened":[],"bounds":{"document_bytes":16777216,"sheet_cells":100000,"rows_first":2000,"rows_last":500,"rows_between":2000,"halvings":0,"cell_chars":16384,"cell_head_chars":4096},"cells_cut":0,"cells_raw":0,"read":"whole","date_system":"1900"}

{"sheet":"１４問（印刷用）","index":0,"n_rows":16,"n_cols":16,"rows_kept":16,"cut":false,"hidden":false,"merged":[[1,3,14,3],[1,4,14,4],[1,2,14,2],[15,5,26,5],[15,4,26,4],[1,13,14,13],[1,6,14,6],[1,7,14,7],[1,8,14,8],[1,9,14,9],[1,10,14,10],[1,11,14,11],[1,12,14,12],[1,5,14,5],[0,14,26,14],[0,15,26,15],[15,1,26,1],[15,0,26,0],[15,13,26,13],[15,12,26,12],[15,11,26,11],[15,10,26,10],[1,0,14,0],[1,1,14,1],[15,9,26,9],[15,8,26,8],[15,2,26,2],[15,3,26,3],[15,7,26,7],[15,6,26,6]]}
[14,13,12,11,10,9,8,7,6,5,4,3,2,1,"カタカナをかんじにしましょう。おくりがながひつようなものはおくりがなも書きます。","かんじプリント　　　　　（　　　　　　　　　　　　　　）　　　"]
[{"$f":"問題!D15","v":"カイシャがチカイ"},{"$f":"問題!D14","v":"人がハシル"},{"$f":"問題!D13","v":"クロイカラばこ"},{"$f":"問題!D12","v":"オナジカズ"},{"$f":"問題!D11","v":"コメをタベル"},{"$f":"問題!D10","v":"ニトウのうし"},{"$f":"問題!D9","v":"ジブンのウタ"},{"$f":"問題!D8","v":"前にマワル"},{"$f":"問題!D7","v":"キにイル"},{"$f":"問題!D6","v":"イマのキもち"},{"$f":"問題!D5","v":"大きなイワ"},{"$f":"問題!D4","v":"ふみダイにのる"},{"$f":"問題!D3","v":"キがハエル"},{"$f":"問題!D2","v":"古いアマド"}]
[]
[]
[]
[]
[]
[]
[]
[]
[]
[]
[]
[]
[]
[{"$f":"'５０問（印刷用）'!L3","v":"会社　　近い"},{"$f":"'５０問（印刷用）'!M3","v":"走る"},{"$f":"'５０問（印刷用）'!N3","v":"黒い　空"},{"$f":"'５０問（印刷用）'!O3","v":"同じ数"},{"$f":"'５０問（印刷用）'!P3","v":"米　食べる"},{"$f":"'５０問（印刷用）'!Q3","v":"二頭"},{"$f":"'５０問（印刷用）'!R3","v":"自分　歌"},{"$f":"'５０問（印刷用）'!S3","v":"回る"},{"$f":"'５０問（印刷用）'!T3","v":"気　　入る"},{"$f":"'５０問（印刷用）'!U3","v":"今　　気"},{"$f":"'５０問（印刷用）'!V3","v":"岩"},{"$f":"'５０問（印刷用）'!W3","v":"台"},{"$f":"'５０問（印刷用）'!X3","v":"木　　生える"},{"$f":"'５０問（印刷用）'!Y3","v":"雨戸"}]

{"sheet":"10問（印刷用）","index":1,"n_rows":16,"n_cols":12,"rows_kept":16,"cut":false,"hidden":false,"merged":[[15,0,25,0],[15,1,25,1],[1,8,14,8],[1,9,14,9],[15,7,25,7],[15,2,25,2],[15,5,25,5],[15,6,25,6],[15,3,25,3],[15,4,25,4],[1,0,14,0],[1,1,14,1],[1,2,14,2],[1,3,14,3],[1,4,14,4],[1,5,14,5],[0,11,26,11],[15,8,25,8],[15,9,25,9],[1,6,14,6],[1,7,14,7],[0,10,26,10]]}
[10,9,8,7,6,5,4,3,2,1,"カタカナをかんじにしましょう。おくりがながひつようなものはおくりがなも書きます。","かんじプリント　　　　　（　　　　　　　　　　　　　　）　　　"]
[{"$f":"'１４問（印刷用）'!E2:E15","v":"コメをタベル"},{"$f":"'１４問（印刷用）'!F2:F15","v":"ニトウのうし"},{"$f":"'１４問（印刷用）'!G2:G15","v":"ジブンのウタ"},{"$f":"'１４問（印刷用）'!H2:H15","v":"前にマワル"},{"$f":"'１４問（印刷用）'!I2:I15","v":"キにイル"},{"$f":"'１４問（印刷用）'!J2:J15","v":"イマのキもち"},{"$f":"'１４問（印刷用）'!K2:K15","v":"大きなイワ"},{"$f":"'１４問（印刷用）'!L2:L15","v":"ふみダイにのる"},{"$f":"'１４問（印刷用）'!M2:M15","v":"キがハエル"},{"$f":"'１４問（印刷用）'!N2:N15","v":"古いアマド"}]
[]
[]
[]
[]
[]
[]
[]
[]
[]
[]
[]
[]
[]
[{"$f":"'１４問（印刷用）'!E16:E27","v":"米　食べる"},{"$f":"'１４問（印刷用）'!F16:F27","v":"二頭"},{"$f":"'１４問（印刷用）'!G16:G27","v":"自分　歌"},{"$f":"'１４問（印刷用）'!H16:H27","v":"回る"},{"$f":"'１４問（印刷用）'!I16:I27","v":"気　　入る"},{"$f":"'１４問（印刷用）'!J16:J27","v":"今　　気"},{"$f":"'１４問（印刷用）'!K16:K27","v":"岩"},{"$f":"'１４問（印刷用）'!L16:L27","v":"台"},{"$f":"'１４問（印刷用）'!M16:M27","v":"木　　生える"},{"$f":"'１４問（印刷用）'!N16:N27","v":"雨戸"}]

{"sheet":"５０問（印刷用）","index":2,"n_rows":12,"n_cols":27,"rows_kept":12,"cut":false,"hidden":false,"merged":[[0,26,26,26],[51,0,61,0],[37,0,50,0],[101,0,111,0],[26,0,36,0],[87,0,100,0],[76,0,86,0],[0,25,26,25],[126,0,136,0],[201,0,211,0],[187,0,200,0],[176,0,186,0],[151,0,161,0],[137,0,150,0]]}
[25,24,23,22,21,20,19,18,17,16,15,14,13,12,11,10,9,8,7,6,5,4,3,2,1,"カタカナをかんじにしましょう。おくりがながひつようなものはおくりがなも書きます。","かんじプリント　　　　　（　　　　　　　　　　　　　　）　　　"]
[{"$f":"問題!$D$26","v":"マイニチ走る"},{"$f":"問題!$D$25","v":"キイロい糸"},{"$f":"問題!$D$24","v":"白いウマ"},{"$f":"問題!$D$23","v":"ナニかがキレル"},{"$f":"問題!$D$22","v":"ハナをミル"},{"$f":"問題!$D$21","v":"トモだちとあそぶ"},{"$f":"問題!$D$20","v":"そばをタベル"},{"$f":"問題!$D$19","v":"タチドマル"},{"$f":"問題!$D$18","v":"ヒロイミセ"},{"$f":"問題!$D$17","v":"ナガイミチ"},{"$f":"問題!$D$16","v":"アキのエンソク"},{"$f":"問題!$D$15","v":"カイシャがチカイ"},{"$f":"問題!$D$14","v":"人がハシル"},{"$f":"問題!$D$13","v":"クロイカラばこ"},{"$f":"問題!$D$12","v":"オナジカズ"},{"$f":"問題!$D$11","v":"コメをタベル"},{"$f":"問題!$D$10","v":"ニトウのうし"},{"$f":"問題!$D$9","v":"ジブンのウタ"},{"$f":"問題!$D$8","v":"前にマワル"},{"$f":"問題!$D$7","v":"キにイル"},{"$f":"問題!$D$6","v":"イマのキもち"},{"$f":"問題!$D$5","v":"大きなイワ"},{"$f":"問題!$D$4","v":"ふみダイにのる"},{"$f":"問題!$D$3","v":"キがハエル"},{"$f":"問題!$D$2","v":"古いアマド"}]
[{"$f":"問題!$E$26","v":"毎日"},{"$f":"問題!$E$25","v":"黄色"},{"$f":"問題!$E$24","v":"馬"},{"$f":"問題!$E$23","v":"何　　切れる"},{"$f":"問題!$E$22","v":"花　　見る"},{"$f":"問題!$E$21","v":"友"},{"$f":"問題!$E$20","v":"食べる"},{"$f":"問題!$E$19","v":"立ち止まる"},{"$f":"問題!$E$18","v":"ヒロイミセ"},{"$f":"問題!$E$17","v":"長い道"},{"$f":"問題!$E$16","v":"秋　遠足"},{"$f":"問題!$E$15","v":"会社　　近い"},{"$f":"問題!$E$14","v":"走る"},{"$f":"問題!$E$13","v":"黒い　空"},{"$f":"問題!$E$12","v":"同じ数"},{"$f":"問題!$E$11","v":"米　食べる"},{"$f":"問題!$E$10","v":"二頭"},{"$f":"問題!$E$9","v":"自分　歌"},{"$f":"問題!$E$8","v":"回る"},{"$f":"問題!$E$7","v":"気　　入る"},{"$f":"問題!$E$6","v":"今　　気"},{"$f":"問題!$E$5","v":"岩"},{"$f":"問題!$E$4","v":"台"},{"$f":"問題!$E$3","v":"木　　生える"},{"$f":"問題!$E$2","v":"雨戸"}]
[50,49,48,47,46,45,44,43,42,41,40,39,38,37,36,35,34,33,32,31,30,29,28,27,26]
[{"$f":"問題!$D$27","v":"ウシロをむく"},{"$f":"問題!$D$28","v":"サキへすすむ"},{"$f":"問題!$D$29","v":"ハルのカゼ"},{"$f":"問題!$D$30","v":"大・ショウのボール"},{"$f":"問題!$D$31","v":"ウタをおぼえる"},{"$f":"問題!$D$32","v":"タカイ木"},{"$f":"問題!$D$33","v":"コウ代する"},{"$f":"問題!$D$34","v":"タニで見たホシ"},{"$f":"問題!$D$35","v":"ガイコクの人"},{"$f":"問題!$D$36","v":"カラダのカタチ"},{"$f":"問題!$D$37","v":"アメがオオイ"},{"$f":"問題!$D$38","v":"カラダがヨワル"},{"$f":"問題!$D$39","v":"たねがフトル"},{"$f":"問題!$D$40","v":"ニンギョウのカオ"},{"$f":"問題!$D$41","v":"学校へイク"},{"$f":"問題!$D$42","v":"キシャにのる"},{"$f":"問題!$D$43","v":"うれしくオモウ"},{"$f":"問題!$D$44","v":"ヒルとヨル"},{"$f":"問題!$D$45","v":"ケイカクを立てる"},{"$f":"問題!$D$46","v":"イエでヤスム"},{"$f":"問題!$D$47","v":"マチをアルク"},{"$f":"問題!$D$48","v":"トウキョウへ行く"},{"$f":"問題!$D$49","v":"マイニチ、ニッキをつける"},{"$f":"問題!$D$50","v":"ハンブンに切る"},{"$f":"問題!$D$51","v":"イトのイロ"}]
[{"$f":"問題!$E$27","v":"後ろ"},{"$f":"問題!$E$28","v":"先"},{"$f":"問題!$E$29","v":"春　　風"},{"$f":"問題!$E$30","v":"小"},{"$f":"問題!$E$31","v":"歌"},{"$f":"問題!$E$32","v":"高い　"},{"$f":"問題!$E$33","v":"交"},{"$f":"問題!$E$34","v":"谷　　星"},{"$f":"問題!$E$35","v":"外国"},{"$f":"問題!$E$36","v":"体　　形"},{"$f":"問題!$E$37","v":"雨　　多い"},{"$f":"問題!$E$38","v":"体　　弱る"},{"$f":"問題!$E$39","v":"太る"},{"$f":"問題!$E$40","v":"人形　顔"},{"$f":"問題!$E$41","v":"行く"},{"$f":"問題!$E$42","v":"汽車"},{"$f":"問題!$E$43","v":"思う"},{"$f":"問題!$E$44","v":"昼　夜"},{"$f":"問題!$E$45","v":"計画"},{"$f":"問題!$E$46","v":"家　休む"},{"$f":"問題!$E$47","v":"町　　歩く"},{"$f":"問題!$E$48","v":"東京"},{"$f":"問題!$E$49","v":"毎日　　日記"},{"$f":"問題!$E$50","v":"半分"},{"$f":"問題!$E$51","v":"糸　　色"}]
[75,74,73,72,71,70,69,68,67,66,65,64,63,62,61,60,59,58,57,56,55,54,53,52,51]
[{"$f":"問題!$D$52","v":"ヒロバのナカ"},{"$f":"問題!$D$53","v":"ゴゴの天気"},{"$f":"問題!$D$54","v":"こえを出しアウ"},{"$f":"問題!$D$55","v":"チャｲﾛでぬる"},{"$f":"問題!$D$56","v":"ミナミのソラ"},{"$f":"問題!$D$57","v":"ゲンキな子"},{"$f":"問題!$D$58","v":"本のヨミカタ"},{"$f":"問題!$D$59","v":"ガッコウの門"},{"$f":"問題!$D$60","v":"ユキのシタ"},{"$f":"問題!$D$61","v":"うしろをミル"},{"$f":"問題!$D$62","v":"センをヒク"},{"$f":"問題!$D$63","v":"アカイサカナ"},{"$f":"問題!$D$64","v":"イチギョウで書く"},{"$f":"問題!$D$65","v":"コエを出す"},{"$f":"問題!$D$66","v":"わけをハナス"},{"$f":"問題!$D$67","v":"先生にアウ"},{"$f":"問題!$D$68","v":"わけをカンガエル"},{"$f":"問題!$D$69","v":"円のソトがわ"},{"$f":"問題!$D$70","v":"三人キョウダイ"},{"$f":"問題!$D$71","v":"ナガイクビ"},{"$f":"問題!$D$72","v":"マルとテン"},{"$f":"問題!$D$73","v":"ソトへデル"},{"$f":"問題!$D$74","v":"ヤをウル"},{"$f":"問題!$D$75","v":"人のナマエ"},{"$f":"問題!$D$76","v":"ハルのハナ"}]
[{"$f":"問題!$E$52","v":"広場　中"},{"$f":"問題!$E$53","v":"午後"},{"$f":"問題!$E$54","v":"合う"},{"$f":"問題!$E$55","v":"茶色"},{"$f":"問題!$E$56","v":"南　　空"},{"$f":"問題!$E$57","v":"元気"},{"$f":"問題!$E$58","v":"読み方"},{"$f":"問題!$E$59","v":"ガッコウ"},{"$f":"問題!$E$60","v":"雪　　下"},{"$f":"問題!$E$61","v":"見る"},{"$f":"問題!$E$62","v":"線　引く"},{"$f":"問題!$E$63","v":"赤い魚"},{"$f":"問題!$E$64","v":"一行"},{"$f":"問題!$E$65","v":"声"},{"$f":"問題!$E$66","v":"話す"},{"$f":"問題!$E$67","v":"アウ"},{"$f":"問題!$E$68","v":"考える"},{"$f":"問題!$E$69","v":"外"},{"$f":"問題!$E$70","v":"兄弟"},{"$f":"問題!$E$71","v":"長い首"},{"$f":"問題!$E$72","v":"丸　　点"},{"$f":"問題!$E$73","v":"外　出る"},{"$f":"問題!$E$74","v":"矢　売る"},{"$f":"問題!$E$75","v":"名前"},{"$f":"問題!$E$76","v":"春　　花"}]
[100,99,98,97,96,95,94,93,92,91,90,89,88,87,86,85,84,83,82,81,80,79,78,77,76]
[{"$f":"問題!$D$77","v":"リ由をコタエル"},{"$f":"問題!$D$78","v":"スコシずつ書く"},{"$f":"問題!$D$79","v":"カイワする"},{"$f":"問題!$D$80","v":"セントウを走る"},{"$f":"問題!$D$81","v":"オンドクをする"},{"$f":"問題!$D$82","v":"コンシュウのよてい"},{"$f":"問題!$D$83","v":"がっきのネイロ"},{"$f":"問題!$D$84","v":"ショウネンのウタ"},{"$f":"問題!$D$85","v":"はじめてシル"},{"$f":"問題!$D$86","v":"ハルのけいバ"},{"$f":"問題!$D$87","v":"ココロにオモウ"},{"$f":"問題!$D$88","v":"モトのところ"},{"$f":"問題!$D$89","v":"ユウガタになる"},{"$f":"問題!$D$90","v":"セイカツカ"},{"$f":"問題!$D$91","v":"チチとハハ"},{"$f":"問題!$D$92","v":"シンユウのコエ"},{"$f":"問題!$D$93","v":"ナンべんも言う"},{"$f":"問題!$D$94","v":"イエにカエル"},{"$f":"問題!$D$95","v":"ハネのカタチ"},{"$f":"問題!$D$96","v":"アカルイアサ"},{"$f":"問題!$D$97","v":"テレビをナオス"},{"$f":"問題!$D$98","v":"カイがら"},{"$f":"問題!$D$99","v":"オンガクカイ"},{"$f":"問題!$D$100","v":"オンガクの時間"},{"$f":"問題!$D$101","v":"町のチュウシン"}]
[{"$f":"問題!$E$77","v":"理　答える"},{"$f":"問題!$E$78","v":"少し"},{"$f":"問題!$E$79","v":"会話"},{"$f":"問題!$E$80","v":"先頭"},{"$f":"問題!$E$81","v":"音読"},{"$f":"問題!$E$82","v":"今週"},{"$f":"問題!$E$83","v":"音色"},{"$f":"問題!$E$84","v":"少年　ウタ"},{"$f":"問題!$E$85","v":"知る"},{"$f":"問題!$E$86","v":"春　馬"},{"$f":"問題!$E$87","v":"心　思う"},{"$f":"問題!$E$88","v":"元気"},{"$f":"問題!$E$89","v":"夕方"},{"$f":"問題!$E$90","v":"生活科"},{"$f":"問題!$E$91","v":"父　母"},{"$f":"問題!$E$92","v":"親友　声"},{"$f":"問題!$E$93","v":"何"},{"$f":"問題!$E$94","v":"家　帰る"},{"$f":"問題!$E$95","v":"羽　　形"},{"$f":"問題!$E$96","v":"明るい朝"},{"$f":"問題!$E$97","v":"直す"},{"$f":"問題!$E$98","v":"貝"},{"$f":"問題!$E$99","v":"音楽会"},{"$f":"問題!$E$100","v":"音楽"},{"$f":"問題!$E$101","v":"中心"}]

{"sheet":"問題","index":3,"n_rows":197,"n_cols":24,"rows_kept":197,"cut":false,"hidden":true,"merged":[]}
["単","通","乱","問","答",1,2,3,4,5,6,7,8,9,10,11,12,13,14,15,16,17,18,19]
[9,114,{"$f":"RAND()","v":0.9202000385994703},"古いアマド","雨戸",null,null,null,null,null,null,null,null,1]
[4,53,0.3154698361642837,"キがハエル","木　　生える",null,null,null,1]
[9,126,0.32542734197287504,"ふみダイにのる","台",null,null,null,null,null,null,null,null,1]
[4,51,0.41952062501454801,"大きなイワ","岩",null,null,null,1]
[4,56,0.36313906870381629,"イマのキもち","今　　気",null,null,null,1]
[1,14,0.5687152819079766,"キにイル","気　　入る",1]
[14,187,0.57368184099969255,"前にマワル","回る",null,null,null,null,null,null,null,null,null,null,null,null,null,1]
[10,132,0.87689818060884439,"ジブンのウタ","自分　歌",null,null,null,null,null,null,null,null,null,1]
[10,137,0.96957218154726477,"ニトウのうし","二頭",null,null,null,null,null,null,null,null,null,1]
[10,131,0.95519725740387995,"コメをタベル","米　食べる",null,null,null,null,null,null,null,null,null,1]
[3,31,0.5719964357375803,"オナジカズ","同じ数",null,null,1]
[6,75,0.336983997620248,"クロイカラばこ","黒い　空",null,null,null,null,null,1]
[11,149,5.7854669950625714E-2,"人がハシル","走る",null,null,null,null,null,null,null,null,null,null,1]
[3,36,0.250129163626994,"カイシャがチカイ","会社　　近い",null,null,1]
[14,184,0.75066062516772347,"アキのエンソク","秋　遠足",null,null,null,null,null,null,null,null,null,null,null,null,null,1]
[8,110,0.92345195597428831,"ナガイミチ","長い道",null,null,null,null,null,null,null,1]
[3,38,0.39835054599961528,"ヒロイミセ","ヒロイミセ",null,null,1]
[8,107,0.63676464719064008,"タチドマル","立ち止まる",null,null,null,null,null,null,null,1]
[11,143,0.53393683861228536,"そばをタベル","食べる",null,null,null,null,null,null,null,null,null,null,1]
[5,68,0.39619207515370725,"トモだちとあそぶ","友",null,null,null,null,1]
[2,27,0.43284316397748446,"ハナをミル","花　　見る",null,1]
[3,40,0.53353863864006035,"ナニかがキレル","何　　切れる",null,null,1]
[13,169,4.0922530757177111E-2,"白いウマ","馬",null,null,null,null,null,null,null,null,null,null,null,null,1]
[2,15,0.17445868559039357,"キイロい糸","黄色",null,1]
[14,190,7.1210977452624724E-2,"マイニチ走る","毎日",null,null,null,null,null,null,null,null,null,null,null,null,null,1]
[8,103,0.206499715860338,"ウシロをむく","後ろ",null,null,null,null,null,null,null,1]
[11,145,0.46044735714006657,"サキへすすむ","先",null,null,null,null,null,null,null,null,null,null,1]
[2,20,0.23384837650285029,"ハルのカゼ","春　　風",null,1]
[9,124,0.30831091113238795,"大・ショウのボール","小",null,null,null,null,null,null,null,null,1]
[12,155,0.35235245162086104,"ウタをおぼえる","歌",null,null,null,null,null,null,null,null,null,null,null,1]
[11,148,8.9269028369767467E-2,"タカイ木","高い　",null,null,null,null,null,null,null,null,null,null,1]
[11,150,0.62355960425457757,"コウ代する","交",null,null,null,null,null,null,null,null,null,null,1]
[7,90,{"$f":"RAND()","v":0.73115362492660874},"タニで見たホシ","谷　　星",null,null,null,null,null,null,1]
[9,116,0.88186912136864182,"ガイコクの人","外国",null,null,null,null,null,null,null,null,1]
[3,30,0.78575960942938017,"カラダのカタチ","体　　形",null,null,1]
[2,23,0.28213003912511114,"アメがオオイ","雨　　多い",null,1]
[7,94,0.26448508935620407,"カラダがヨワル","体　　弱る",null,null,null,null,null,null,1]
[2,16,0.51430399510317892,"たねがフトル","太る",null,1]
[8,102,0.71390951419328219,"ニンギョウのカオ","人形　顔",null,null,null,null,null,null,null,1]
[3,42,0.34975476545240058,"学校へイク","行く",null,null,1]
[9,115,8.3399773724601833E-2,"キシャにのる","汽車",null,null,null,null,null,null,null,null,1]
[5,64,5.8018650896068391E-2,"うれしくオモウ","思う",null,null,null,null,1]
[12,165,0.73329852147675934,"ヒルとヨル","昼　夜",null,null,null,null,null,null,null,null,null,null,null,1]
[12,157,0.59667413506449485,"ケイカクを立てる","計画",null,null,null,null,null,null,null,null,null,null,null,1]
[11,154,0.18086468684208135,"イエでヤスム","家　休む",null,null,null,null,null,null,null,null,null,null,1]
[5,70,0.61838105024130119,"マチをアルク","町　　歩く",null,null,null,null,1]
[8,104,0.68130454669092699,"トウキョウへ行く","東京",null,null,null,null,null,null,null,1]
[7,98,0.7938228905817839,"マイニチ、ニッキをつける","毎日　　日記",null,null,null,null,null,null,1]
[7,95,5.5152985048951164E-2,"ハンブンに切る","半分",null,null,null,null,null,null,1]
[4,49,0.23102079784389318,"イトのイロ","糸　　色",null,null,null,1]
[9,113,0.20341359681821036,"ヒロバのナカ","広場　中",null,null,null,null,null,null,null,null,1]
[12,164,0.56262983022877522,"ゴゴの天気","午後",null,null,null,null,null,null,null,null,null,null,null,1]
[7,85,0.77830403677247983,"こえを出しアウ","合う",null,null,null,null,null,null,1]
[12,168,8.5130173411658627E-2,"チャｲﾛでぬる","茶色",null,null,null,null,null,null,null,null,null,null,null,1]
[1,7,0.75144385139106507,"ミナミのソラ","南　　空",1]
[4,48,9.5618201000088998E-2,"ゲンキな子","元気",null,null,null,1]
[14,193,0.66668884549288587,"本のヨミカタ","読み方",null,null,null,null,null,null,null,null,null,null,null,null,null,1]
[2,26,0.35099553319600918,"ガッコウの門","ガッコウ",null,1]
[1,4,0.48575941028155656,"ユキのシタ","雪　　下",1]
[4,47,0.17253711666744798,"うしろをミル","見る",null,null,null,1]
[9,122,0.91755417549113005,"センをヒク","線　引く",null,null,null,null,null,null,null,null,1]
[4,44,0.40965524172838963,"アカイサカナ","赤い魚",null,null,null,1]
[5,66,0.96268667341025516,"イチギョウで書く","一行",null,null,null,null,1]
[14,194,0.85843051447281804,"コエを出す","声",null,null,null,null,null,null,null,null,null,null,null,null,null,1]
[3,33,{"$f":"RAND()","v":0.71688106873617341},"わけをハナス","話す",null,null,1]
[5,59,0.27207677052998447,"先生にアウ","アウ",null,null,null,null,1]
[2,24,0.86210691350923119,"わけをカンガエル","考える",null,1]
[6,71,0.1465363404348855,"円のソトがわ","外",null,null,null,null,null,1]
[13,176,0.91337845010367413,"三人キョウダイ","兄弟",null,null,null,null,null,null,null,null,null,null,null,null,1]
[9,117,0.95587495884024543,"ナガイクビ","長い首",null,null,null,null,null,null,null,null,1]
[5,63,0.71259929857578996,"マルとテン","丸　　点",null,null,null,null,1]
[11,142,0.24912540030222341,"ソトへデル","外　出る",null,null,null,null,null,null,null,null,null,null,1]
[13,179,0.72125131837914669,"ヤをウル","矢　売る",null,null,null,null,null,null,null,null,null,null,null,null,1]
[4,46,0.51645559054679924,"人のナマエ","名前",null,null,null,1]
[1,9,0.49601364680773496,"ハルのハナ","春　　花",1]
[10,135,0.81361321463848335,"リ由をコタエル","理　答える",null,null,null,null,null,null,null,null,null,1]
[14,192,5.2828837658853711E-2,"スコシずつ書く","少し",null,null,null,null,null,null,null,null,null,null,null,null,null,1]
[5,61,0.25615750192400399,"カイワする","会話",null,null,null,null,1]
[13,178,0.87449304626597135,"セントウを走る","先頭",null,null,null,null,null,null,null,null,null,null,null,null,1]
[14,191,6.5599784916735571E-2,"オンドクをする","音読",null,null,null,null,null,null,null,null,null,null,null,null,null,1]
[1,11,0.32338172381712704,"コンシュウのよてい","今週",1]
[13,181,0.49638165367571818,"がっきのネイロ","音色",null,null,null,null,null,null,null,null,null,null,null,null,1]
[13,172,0.88072812533525435,"ショウネンのウタ","少年　ウタ",null,null,null,null,null,null,null,null,null,null,null,null,1]
[2,25,0.23981759396571167,"はじめてシル","知る",null,1]
[13,177,0.92724035209001887,"ハルのけいバ","春　馬",null,null,null,null,null,null,null,null,null,null,null,null,1]
[10,133,0.71319584537910907,"ココロにオモウ","心　思う",null,null,null,null,null,null,null,null,null,1]
[6,72,0.75922234273044165,"モトのところ","元気",null,null,null,null,null,1]
[7,96,0.8586792450409183,"ユウガタになる","夕方",null,null,null,null,null,null,1]
[10,127,0.1251260957484388,"セイカツカ","生活科",null,null,null,null,null,null,null,null,null,1]
[12,160,0.24873042576734439,"チチとハハ","父　母",null,null,null,null,null,null,null,null,null,null,null,1]
[8,101,7.6651472904909701E-2,"シンユウのコエ","親友　声",null,null,null,null,null,null,null,1]
[6,74,0.34926596539464649,"ナンべんも言う","何",null,null,null,null,null,1]
[8,100,0.84066907141430913,"イエにカエル","家　帰る",null,null,null,null,null,null,null,1]
[7,88,0.9371298312691585,"ハネのカタチ","羽　　形",null,null,null,null,null,null,1]
[6,77,0.27543346579663375,"アカルイアサ","明るい朝",null,null,null,null,null,1]
[14,195,0.43885763110695075,"テレビをナオス","直す",null,null,null,null,null,null,null,null,null,null,null,null,null,1]
[4,45,{"$f":"RAND()","v":0.76291838309458659},"カイがら","貝",null,null,null,1]
[14,183,0.45158764222525127,"オンガクカイ","音楽会",null,null,null,null,null,null,null,null,null,null,null,null,null,1]
[12,167,0.25651217534993942,"オンガクの時間","音楽",null,null,null,null,null,null,null,null,null,null,null,1]
[7,87,0.16774404037716462,"町のチュウシン","中心",null,null,null,null,null,null,1]
[6,82,0.1180071090667778,"コクゴのノート","国語",null,null,null,null,null,1]
[8,109,0.92284325572212222,"アタマを上げる","頭",null,null,null,null,null,null,null,1]
[4,52,0.20812872799973425,"カゼがふく","凬",null,null,null,1]
[6,84,0.82409070974331255,"ナツのヨカゼ","夏　　夜風",null,null,null,null,null,1]
[3,41,0.912668526904996,"コガタナをつかう","小刀",null,null,1]
[11,147,0.83368779937809134,"シカクをかく","四角",null,null,null,null,null,null,null,null,null,null,1]
[4,50,0.21953891494579991,"スイチュウのようす","水中",null,null,null,1]
[9,121,0.70695878202933748,"ブンをツクル","文　作る　　",null,null,null,null,null,null,null,null,1]
[11,144,0.17093860328367805,"ハナシをキク","話　聞く",null,null,null,null,null,null,null,null,null,null,1]
[3,32,0.68038794696260407,"タカイとオモウ","高い　　思う",null,null,1]
[11,153,0.7087520113120549,"コウエンのベンチ","公園",null,null,null,null,null,null,null,null,null,null,1]
[6,73,0.21207494569818264,"イッシュウカン","一週間",null,null,null,null,null,1]
[8,108,0.21465558007301822,"フネにのる","船",null,null,null,null,null,null,null,1]
[1,1,6.9907529998871842E-2,"オンドクする","音読",1]
[4,43,6.1020577255508357E-2,"ヒロイウミ","広い　　海",null,null,null,1]
[1,10,0.4900534887748863,"ムシをさがず","虫",1]
[1,12,0.49867157162764952,"カミにカク","紙　　書く",1]
[7,89,0.33255867502306702,"キョウシツで会う","教室",null,null,null,null,null,null,1]
[5,57,0.75292933196591549,"二つにワケル","分ける",null,null,null,null,1]
[8,106,0.99662314635469351,"フルイおテラ","古い　寺",null,null,null,null,null,null,null,1]
[10,140,0.47518884877482748,"ハゴ板","羽子",null,null,null,null,null,null,null,null,null,1]
[6,79,0.93348832221121258,"アマミズをためる","雨水",null,null,null,null,null,1]
[10,128,0.33366038486149185,"チズを見る","地図",null,null,null,null,null,null,null,null,null,1]
[9,123,0.8438161921321421,"ガヨウシ","画用紙",null,null,null,null,null,null,null,null,1]
[1,5,0.32315176305248139,"こたえをイウ","言う",1]
[13,175,0.58061674302991217,"ウシがナク","牛　鳴く",null,null,null,null,null,null,null,null,null,null,null,null,1]
[9,120,0.44292948864426107,"イチバへ行く","市場",null,null,null,null,null,null,null,null,1]
[1,6,0.51588451512801758,"ウエをミル","上　　見る",1]
[14,189,{"$f":"RAND()","v":0.75508518262565427},"キョウシツの中","教室",null,null,null,null,null,null,null,null,null,null,null,null,null,1]
[2,17,0.12318032988356409,"シロいケ","白　　毛",null,1]
[3,34,0.20183257017418321,"こえをキク","聞く",null,null,1]
[2,19,0.2005119857902381,"せいがタカイ","高い",null,1]
[14,188,0.19852384491576469,"トウバンになる","当番",null,null,null,null,null,null,null,null,null,null,null,null,null,1]
[2,21,8.1479665346395724E-2,"あさからハレル","晴れる",null,1]
[10,130,0.24113608478500959,"トショ館","図書",null,null,null,null,null,null,null,null,null,1]
[11,151,0.58768858418348568,"タノシイ時間","楽しい",null,null,null,null,null,null,null,null,null,null,1]
[10,139,0.92398325682394844,"ライネンのフユ","来年　冬",null,null,null,null,null,null,null,null,null,1]
[4,55,0.38636476223653782,"道をオシエル","教える",null,null,null,1]
[9,118,0.81111048929645335,"コムギのこな","小麦",null,null,null,null,null,null,null,null,1]
[8,99,0.71164133042022781,"うれしいトキ","時",null,null,null,null,null,null,null,1]
[12,163,0.59629935153445657,"ゴゼンのよてい","午前",null,null,null,null,null,null,null,null,null,null,null,1]
[13,170,3.7498466441725387E-2,"キタのホウへ行く","北　方",null,null,null,null,null,null,null,null,null,null,null,null,1]
[3,35,0.79457564690596072,"ホソイセン","細い線",null,null,1]
[7,97,0.36622486814672706,"ヒルにデンワする","昼　　電話",null,null,null,null,null,null,1]
[12,158,1.8207822250673966E-2,"イチマンエン","一万円",null,null,null,null,null,null,null,null,null,null,null,1]
[12,162,0.5166558537652105,"オトウトとイモウト","弟　妹",null,null,null,null,null,null,null,null,null,null,null,1]
[5,65,0.42156062319572873,"トリのナマエ","鳥　　名前",null,null,null,null,1]
[11,152,0.65905749121233448,"つけタス","足す",null,null,null,null,null,null,null,null,null,null,1]
[14,186,0.43909025759458742,"サトいもを食べる","里",null,null,null,null,null,null,null,null,null,null,null,null,null,1]
[2,18,0.66486813039664561,"ヤスミの日","休み　　日",null,1]
[5,58,0.32609364176274491,"ミギのエ","右　　絵",null,null,null,null,1]
[11,141,0.88147080855099968,"アメのふりカタ","雨　方",null,null,null,null,null,null,null,null,null,null,1]
[5,69,0.83339081489018896,"サンカイとぶ","三回",null,null,null,null,1]
[13,173,0.65121187792038726,"トオイところ","遠い",null,null,null,null,null,null,null,null,null,null,null,null,1]
[8,105,0.21633730707860876,"ニシビがさす","西日",null,null,null,null,null,null,null,1]
[6,83,7.1760361277458218E-2,"サンニングミ","三人組",null,null,null,null,null,1]
[1,13,0.99468413032223035,"セイモンのまえ","正門",1]
[5,62,0.83531850551611908,"広いノハラ","野原",null,null,null,null,1]
[7,93,0.94060508291036293,"どうぶつエン","園",null,null,null,null,null,null,1]
[10,134,0.45953441023475938,"イモウトがマナブ","妹　学ぶ",null,null,null,null,null,null,null,null,null,1]
[11,146,{"$f":"RAND()","v":0.86095281508772192},"アシがはやい","足",null,null,null,null,null,null,null,null,null,null,1]
[2,28,0.6576315916684059,"ブンをヨム","文　　読む",null,1]
[14,185,0.76872884533961938,"コク板をふく","黒",null,null,null,null,null,null,null,null,null,null,null,null,null,1]
[1,3,0.20512380950181819,"タケやぶのそば","竹",1]
[9,119,0.73788703210291884,"トチの名前","土地",null,null,null,null,null,null,null,null,1]
[1,2,5.5574448365779516E-2,"本をヨム","読む",1]
[4,54,0.97403577985952394,"おハナシをカンガエル","話　　考える",null,null,null,1]
[8,112,2.8461170313680562E-3,"アキがクル","秋　来る",null,null,null,null,null,null,null,1]
[12,156,0.63451778300593409,"ジブンの考え","自分　歌",null,null,null,null,null,null,null,null,null,null,null,1]
[8,111,0.24552243178603372,"月のヒカリ","光",null,null,null,null,null,null,null,1]
[10,129,0.85068070818217156,"コウサクの時間","工作",null,null,null,null,null,null,null,null,null,1]
[3,29,0.52877957858737079,"スイヨウビ","水曜日",null,null,1]
[5,60,0.73287521669238143,"イケのナカ","池　　中",null,null,null,null,1]
[7,92,0.42754594037145266,"ヤがアタル","矢　　当たる",null,null,null,null,null,null,1]
[6,76,0.17227307710184225,"アタラシイクニ","新しい国",null,null,null,null,null,1]
[13,171,0.82697941398013486,"広いソウゲン","草原",null,null,null,null,null,null,null,null,null,null,null,null,1]
[3,37,2.0289782705435577E-2,"チョウナイの本や","町内",null,null,1]
[2,22,0.96868553408237301,"しめりケがある","気",null,1]
[6,80,0.27290427123240257,"ツヨクマワス","強く回す",null,null,null,null,null,1]
[1,8,0.72925306917394672,"イキものをかう","生き",1]
[12,166,0.35167085104843498,"サンスウをならう","算数",null,null,null,null,null,null,null,null,null,null,null,1]
[3,39,0.83350424496323816,"ニクをカウ","肉　　買う",null,null,1]
[10,138,0.97010843757168774,"ねずみドシ","年",null,null,null,null,null,null,null,null,null,1]
[14,196,0.70753306675677829,"マルとテン","丸　点",null,null,null,null,null,null,null,null,null,null,null,null,null,1]
[12,161,0.4259175101378383,"アニとアネ","兄　姉",null,null,null,null,null,null,null,null,null,null,null,1]
[13,180,0.2934452327222129,"ケライのユミ","家来　弓",null,null,null,null,null,null,null,null,null,null,null,null,1]
[6,81,0.92619289189648935,"アイダをトオル","間　通る",null,null,null,null,null,1]
[10,136,0.78985108901495382,"イッショウけんめい","一生",null,null,null,null,null,null,null,null,null,1]
[7,91,7.1706546357464318E-2,"ユミのテンサイ","弓　　天才",null,null,null,null,null,null,1]
[5,67,0.16956813705709106,"ミセでカウ","店　　買う",null,null,null,null,1]
[9,125,0.81712341734229144,"アトでハナス","後　話す",null,null,null,null,null,null,null,null,1]
[12,159,9.9091543339390853E-2,"オヤとコ","親　子",null,null,null,null,null,null,null,null,null,null,null,1]
[6,78,0.77035756728835847,"ホントウのこと","本当",null,null,null,null,null,1]
[7,86,0.60513062761037362,"白いクモがうかぶ","雲",null,null,null,null,null,null,1]
[13,174,0.52292196164817206,"えさをクウ","食う",null,null,null,null,null,null,null,null,null,null,null,null,1]
[13,182,0.17188228947442774,"ボタンをハズス","外す",null,null,null,null,null,null,null,null,null,null,null,null,1]