{"text_format":"1","workbook":"xlsx","n_sheets":4,"sheets":["２０問（印刷用）","10問（印刷用）","５０問（印刷用）","問題"],"not_rendered":{"charts":0,"images":0,"macros":1,"external_links":0,"defined_names":3,"comments":0,"pivot_tables":0},"unopened":[],"bounds":{"document_bytes":16777216,"sheet_cells":100000,"rows_first":2000,"rows_last":500,"rows_between":2000,"halvings":0,"cell_chars":16384,"cell_head_chars":4096},"cells_cut":0,"cells_raw":0,"read":"whole","date_system":"1900"}

{"sheet":"２０問（印刷用）","index":0,"n_rows":16,"n_cols":22,"rows_kept":16,"cut":false,"hidden":false,"merged":[[0,21,26,21],[15,7,26,7],[15,6,26,6],[15,5,26,5],[1,11,14,11],[1,9,14,9],[1,10,14,10],[1,6,14,6],[1,7,14,7],[1,19,14,19],[1,12,14,12],[1,13,14,13],[1,14,14,14],[1,15,14,15],[1,16,14,16],[15,19,26,19],[15,18,26,18],[15,17,26,17],[15,16,26,16],[0,20,26,20],[15,0,26,0],[15,3,26,3],[15,2,26,2],[15,15,26,15],[15,14,26,14],[15,8,26,8],[15,9,26,9],[15,13,26,13],[15,12,26,12],[15,11,26,11],[15,10,26,10],[15,1,26,1],[15,4,26,4],[1,17,14,17],[1,18,14,18],[1,8,14,8],[1,5,14,5],[1,0,14,0],[1,1,14,1],[1,2,14,2],[1,3,14,3],[1,4,14,4]]}
[20,19,18,17,16,15,14,13,12,11,10,9,8,7,6,5,4,3,2,1,"カタカナをかん字に直しましょう。送りがながひつようなものは送りがなも書きます。","三年生のかん字二十問　月　日　（　　　　　　　　　　　）　　　点"]
[{"$f":"問題!D21","v":"おかずをアタタメル"},{"$f":"問題!D20","v":"計算がハヤイ"},{"$f":"問題!D19","v":"キンコにしまう"},{"$f":"問題!D18","v":"大きなヒツジ"},{"$f":"問題!D17","v":"ようかんをトウブンする"},{"$f":"問題!D16","v":"ヨウモウでできた服"},{"$f":"問題!D15","v":"ベンキョウする"},{"$f":"問題!D14","v":"ヤクに立つ道具"},{"$f":"問題!D13","v":"キオンを計る"},{"$f":"問題!D12","v":"船のジソクを調べる"},{"$f":"問題!D11","v":"チュウショクをとる"},{"$f":"問題!D10","v":"合図のフエ"},{"$f":"問題!D9","v":"ニッキチョウを買う"},{"$f":"問題!D8","v":"京都のジインをめぐる"},{"$f":"問題!D7","v":"ミヤダイクがたてた寺"},{"$f":"問題!D6","v":"セキタンを買う"},{"$f":"問題!D5","v":"車のウンテン"},{"$f":"問題!D4","v":"にもつをハコブ"},{"$f":"問題!D3","v":"どちらもヒトシイ長さ"},{"$f":"問題!D2","v":"スミビでやく"}]
[]
[]
[]
[]
[]
[]
[]
[]
[]
[]
[]
[]
[]
[{"$f":"'５０問（印刷用）'!F3","v":"温める"},{"$f":"'５０問（印刷用）'!G3","v":"速い"},{"$f":"'５０問（印刷用）'!H3","v":"金庫"},{"$f":"'５０問（印刷用）'!I3","v":"羊"},{"$f":"'５０問（印刷用）'!J3","v":"等分"},{"$f":"'５０問（印刷用）'!K3","v":"羊毛"},{"$f":"'５０問（印刷用）'!L3","v":"勉強"},{"$f":"'５０問（印刷用）'!M3","v":"役"},{"$f":"'５０問（印刷用）'!N3","v":"気温"},{"$f":"'５０問（印刷用）'!O3","v":"時速"},{"$f":"'５０問（印刷用）'!P3","v":"昼食"},{"$f":"'５０問（印刷用）'!Q3","v":"笛"},{"$f":"'５０問（印刷用）'!R3","v":"日記帳"},{"$f":"'５０問（印刷用）'!S3","v":"寺院"},{"$f":"'５０問（印刷用）'!T3","v":"宮大工"},{"$f":"'５０問（印刷用）'!U3","v":"石炭"},{"$f":"'５０問（印刷用）'!V3","v":"運転"},{"$f":"'５０問（印刷用）'!W3","v":"運ぶ"},{"$f":"'５０問（印刷用）'!X3","v":"等しい"},{"$f":"'５０問（印刷用）'!Y3","v":"炭火"}]

{"sheet":"10問（印刷用）","index":1,"n_rows":16,"n_cols":12,"rows_kept":16,"cut":false,"hidden":false,"merged":[[0,10,25,10],[15,3,25,3],[15,8,25,8],[15,9,25,9],[1,6,14,6],[1,7,14,7],[15,4,25,4],[0,11,25,11],[1,0,14,0],[1,1,14,1],[1,2,14,2],[1,3,14,3],[1,4,14,4],[1,5,14,5],[15,0,25,0],[15,1,25,1],[1,8,14,8],[1,9,14,9],[15,7,25,7],[15,2,25,2],[15,5,25,5],[15,6,25,6]]}
[10,9,8,7,6,5,4,3,2,1,"カタカナを漢字に直しましょう。送りがながひつようなものは送りがなも書きます。","三年生のかん字十問　　月　日　（　　　　　　　　　　　　　　）　　　　点　　　　　"]
[{"$f":"'２０問（印刷用）'!K2:K15","v":"チュウショクをとる"},{"$f":"'２０問（印刷用）'!L2:L15","v":"合図のフエ"},{"$f":"'２０問（印刷用）'!M2:M15","v":"ニッキチョウを買う"},{"$f":"'２０問（印刷用）'!N2:N15","v":"京都のジインをめぐる"},{"$f":"'２０問（印刷用）'!O2:O15","v":"ミヤダイクがたてた寺"},{"$f":"'２０問（印刷用）'!P2:P15","v":"セキタンを買う"},{"$f":"'２０問（印刷用）'!Q2:Q15","v":"車のウンテン"},{"$f":"'２０問（印刷用）'!R2:R15","v":"にもつをハコブ"},{"$f":"'２０問（印刷用）'!S2:S15","v":"どちらもヒトシイ長さ"},{"$f":"'２０問（印刷用）'!T2:T15","v":"スミビでやく"}]
[]
[]
[]
[]
[]
[]
[]
[]
[]
[]
[]
[]
[]
[{"$f":"'２０問（印刷用）'!K16:K27","v":"昼食"},{"$f":"'２０問（印刷用）'!L16:L27","v":"笛"},{"$f":"'２０問（印刷用）'!M16:M27","v":"日記帳"},{"$f":"'２０問（印刷用）'!N16:N27","v":"寺院"},{"$f":"'２０問（印刷用）'!O16:O27","v":"宮大工"},{"$f":"'２０問（印刷用）'!P16:P27","v":"石炭"},{"$f":"'２０問（印刷用）'!Q16:Q27","v":"運転"},{"$f":"'２０問（印刷用）'!R16:R27","v":"運ぶ"},{"$f":"'２０問（印刷用）'!S16:S27","v":"等しい"},{"$f":"'２０問（印刷用）'!T16:T27","v":"炭火"}]

{"sheet":"５０問（印刷用）","index":2,"n_rows":12,"n_cols":27,"rows_kept":12,"cut":false,"hidden":false,"merged":[[201,0,211,0],[187,0,200,0],[176,0,186,0],[151,0,161,0],[137,0,150,0],[126,0,136,0],[51,0,61,0],[37,0,50,0],[7,26,11,26],[0,26,5,26],[0,25,5,25],[101,0,111,0],[26,0,36,0],[87,0,100,0],[76,0,86,0]]}
[25,24,23,22,21,20,19,18,17,16,15,14,13,12,11,10,9,8,7,6,5,4,3,2,1,"カタカナをかん字に直しましょう。送りがながひつようなものは送りがなも書きます。","三年生のかん字五十問　月　日　（　　　　　　　　　　　　　　　）　　　　　点"]
[{"$f":"問題!$D$26","v":"ダイズを食べる"},{"$f":"問題!$D$25","v":"カカリの人にたずねる"},{"$f":"問題!$D$24","v":"シャシンをとる"},{"$f":"問題!$D$23","v":"オウキュウに住む"},{"$f":"問題!$D$22","v":"キテキをならす"},{"$f":"問題!$D$21","v":"おかずをアタタメル"},{"$f":"問題!$D$20","v":"計算がハヤイ"},{"$f":"問題!$D$19","v":"キンコにしまう"},{"$f":"問題!$D$18","v":"大きなヒツジ"},{"$f":"問題!$D$17","v":"ようかんをトウブンする"},{"$f":"問題!$D$16","v":"ヨウモウでできた服"},{"$f":"問題!$D$15","v":"ベンキョウする"},{"$f":"問題!$D$14","v":"ヤクに立つ道具"},{"$f":"問題!$D$13","v":"キオンを計る"},{"$f":"問題!$D$12","v":"船のジソクを調べる"},{"$f":"問題!$D$11","v":"チュウショクをとる"},{"$f":"問題!$D$10","v":"合図のフエ"},{"$f":"問題!$D$9","v":"ニッキチョウを買う"},{"$f":"問題!$D$8","v":"京都のジインをめぐる"},{"$f":"問題!$D$7","v":"ミヤダイクがたてた寺"},{"$f":"問題!$D$6","v":"セキタンを買う"},{"$f":"問題!$D$5","v":"車のウンテン"},{"$f":"問題!$D$4","v":"にもつをハコブ"},{"$f":"問題!$D$3","v":"どちらもヒトシイ長さ"},{"$f":"問題!$D$2","v":"スミビでやく"}]
[{"$f":"問題!$E$26","v":"大豆"},{"$f":"問題!$E$25","v":"係"},{"$f":"問題!$E$24","v":"写真"},{"$f":"問題!$E$23","v":"王宮"},{"$f":"問題!$E$22","v":"汽笛"},{"$f":"問題!$E$21","v":"温める"},{"$f":"問題!$E$20","v":"速い"},{"$f":"問題!$E$19","v":"金庫"},{"$f":"問題!$E$18","v":"羊"},{"$f":"問題!$E$17","v":"等分"},{"$f":"問題!$E$16","v":"羊毛"},{"$f":"問題!$E$15","v":"勉強"},{"$f":"問題!$E$14","v":"役"},{"$f":"問題!$E$13","v":"気温"},{"$f":"問題!$E$12","v":"時速"},{"$f":"問題!$E$11","v":"昼食"},{"$f":"問題!$E$10","v":"笛"},{"$f":"問題!$E$9","v":"日記帳"},{"$f":"問題!$E$8","v":"寺院"},{"$f":"問題!$E$7","v":"宮大工"},{"$f":"問題!$E$6","v":"石炭"},{"$f":"問題!$E$5","v":"運転"},{"$f":"問題!$E$4","v":"運ぶ"},{"$f":"問題!$E$3","v":"等しい"},{"$f":"問題!$E$2","v":"炭火"}]
[50,49,48,47,46,45,44,43,42,41,40,39,38,37,36,35,34,33,32,31,30,29,28,27,26]
[{"$f":"問題!$D$27","v":"コトシの春"},{"$f":"問題!$D$28","v":"こま切れのギュウニク"},{"$f":"問題!$D$29","v":"ダイクさんの仕事"},{"$f":"問題!$D$30","v":"カミサマにいのる"},{"$f":"問題!$D$31","v":"かばんがオモイ"},{"$f":"問題!$D$32","v":"紙のオモテとうら"},{"$f":"問題!$D$33","v":"しあいにマケル"},{"$f":"問題!$D$34","v":"土地をクブンする"},{"$f":"問題!$D$35","v":"海へ魚をハナス"},{"$f":"問題!$D$36","v":"ぐあいがワルイ"},{"$f":"問題!$D$37","v":"ショジヒンをあずける"},{"$f":"問題!$D$38","v":"さいふをオトス"},{"$f":"問題!$D$39","v":"自転車をショユウする"},{"$f":"問題!$D$40","v":"店のおキャクさん"},{"$f":"問題!$D$41","v":"オモな仕事"},{"$f":"問題!$D$42","v":"ニガッキがはじまる"},{"$f":"問題!$D$43","v":"ビじゅつ館に行く"},{"$f":"問題!$D$44","v":"ケンキュウをはじめる"},{"$f":"問題!$D$45","v":"マツリを楽しむ"},{"$f":"問題!$D$46","v":"ハタケ仕事をする"},{"$f":"問題!$D$47","v":"犬のかいヌシ"},{"$f":"問題!$D$48","v":"人生は楽あればクありだ"},{"$f":"問題!$D$49","v":"コンキよくつづける"},{"$f":"問題!$D$51","v":"イッポ前に出る"},{"$f":"問題!$D$52","v":"作戦をカイシする"}]
[{"$f":"問題!$E$27","v":"今年"},{"$f":"問題!$E$28","v":"牛肉"},{"$f":"問題!$E$29","v":"大工"},{"$f":"問題!$E$30","v":"神様"},{"$f":"問題!$E$31","v":"重い"},{"$f":"問題!$E$32","v":"表"},{"$f":"問題!$E$33","v":"負ける"},{"$f":"問題!$E$34","v":"区分"},{"$f":"問題!$E$35","v":"放す"},{"$f":"問題!$E$36","v":"悪い"},{"$f":"問題!$E$37","v":"所持品"},{"$f":"問題!$E$38","v":"落とす"},{"$f":"問題!$E$39","v":"所有"},{"$f":"問題!$E$40","v":"客"},{"$f":"問題!$E$41","v":"主人公"},{"$f":"問題!$E$42","v":"二学期"},{"$f":"問題!$E$43","v":"美"},{"$f":"問題!$E$44","v":"研究"},{"$f":"問題!$E$45","v":"祭り"},{"$f":"問題!$E$46","v":"畑"},{"$f":"問題!$E$47","v":"主人公"},{"$f":"問題!$E$48","v":"苦"},{"$f":"問題!$E$49","v":"根気"},{"$f":"問題!$E$50","v":"泳ぐ"},{"$f":"問題!$E$51","v":"一歩"}]
[75,74,73,72,71,70,69,68,67,66,65,64,63,62,61,60,59,58,57,56,55,54,53,52,51]
[{"$f":"問題!$D$53","v":"ショウカかつどうをする"},{"$f":"問題!$D$54","v":"新聞のシュザイ"},{"$f":"問題!$D$55","v":"カンジを書く"},{"$f":"問題!$D$56","v":"ジユウに話す"},{"$f":"問題!$D$57","v":"トカイでくらす"},{"$f":"問題!$D$58","v":"ノウギョウをはじめる"},{"$f":"問題!$D$59","v":"日本はシマグニだ"},{"$f":"問題!$D$60","v":"おユをわかす"},{"$f":"問題!$D$61","v":"足し算のシキ"},{"$f":"問題!$D$62","v":"ウツクシイ絵画"},{"$f":"問題!$D$63","v":"シナモノがならぶ"},{"$f":"問題!$D$64","v":"ソウダンする"},{"$f":"問題!$D$65","v":"夏がオワル"},{"$f":"問題!$D$66","v":"ニモツをもつ"},{"$f":"問題!$D$67","v":"ラクガキを消す"},{"$f":"問題!$D$68","v":"文をインヨウする"},{"$f":"問題!$D$69","v":"石をナゲル"},{"$f":"問題!$D$70","v":"タビビトに出会う"},{"$f":"問題!$D$71","v":"ねらいがサダマル"},{"$f":"問題!$D$72","v":"昼にケイショクをとる"},{"$f":"問題!$D$73","v":"シンぴてきな音楽"},{"$f":"問題!$D$74","v":"「川田とモウシます」"},{"$f":"問題!$D$75","v":"ジメンに落ちる"},{"$f":"問題!$D$76","v":"線をユビでなぞる"},{"$f":"問題!$D$77","v":"チョクセンを引く"}]
[{"$f":"問題!$E$52","v":"開始"},{"$f":"問題!$E$53","v":"消火"},{"$f":"問題!$E$54","v":"取材"},{"$f":"問題!$E$55","v":"漢字"},{"$f":"問題!$E$56","v":"自由"},{"$f":"問題!$E$57","v":"都会"},{"$f":"問題!$E$58","v":"農業"},{"$f":"問題!$E$59","v":"島国"},{"$f":"問題!$E$60","v":"湯"},{"$f":"問題!$E$61","v":"式"},{"$f":"問題!$E$62","v":"美しい"},{"$f":"問題!$E$63","v":"品物"},{"$f":"問題!$E$64","v":"相談"},{"$f":"問題!$E$65","v":"終わる"},{"$f":"問題!$E$66","v":"荷物"},{"$f":"問題!$E$67","v":"落書き"},{"$f":"問題!$E$68","v":"引用"},{"$f":"問題!$E$69","v":"投げる"},{"$f":"問題!$E$70","v":"旅人"},{"$f":"問題!$E$71","v":"定まる"},{"$f":"問題!$E$72","v":"軽食"},{"$f":"問題!$E$73","v":"神話"},{"$f":"問題!$E$74","v":"申し"},{"$f":"問題!$E$75","v":"地面"},{"$f":"問題!$E$76","v":"指"}]
[100,99,98,97,96,95,94,93,92,91,90,89,88,87,86,85,84,83,82,81,80,79,78,77,76]
[{"$f":"問題!$D$78","v":"品物のダイキン"},{"$f":"問題!$D$79","v":"とびらをヒラク"},{"$f":"問題!$D$80","v":"シチョウソン"},{"$f":"問題!$D$81","v":"作文のダイ"},{"$f":"問題!$D$82","v":"とうふをイッチョウ買う"},{"$f":"問題!$D$83","v":"クスリバコ"},{"$f":"問題!$D$84","v":"ナマたまご"},{"$f":"問題!$D$85","v":"アンゴウを考える"},{"$f":"問題!$D$86","v":"ジョゲンし合う"},{"$f":"問題!$D$87","v":"春のおとずれをカンジル"},{"$f":"問題!$D$88","v":"ジドウ公園であそぶ"},{"$f":"問題!$D$89","v":"マナツの大要"},{"$f":"問題!$D$90","v":"ヤッキョクへ行く"},{"$f":"問題!$D$91","v":"アキラカにおかしい"},{"$f":"問題!$D$92","v":"チャイロの服"},{"$f":"問題!$D$93","v":"たまをウツ"},{"$f":"問題!$D$94","v":"米に麦をマゼル"},{"$f":"問題!$D$95","v":"工事がハジマル"},{"$f":"問題!$D$96","v":"フカイ海のそこ"},{"$f":"問題!$D$97","v":"ユウメイジンに会う"},{"$f":"問題!$D$98","v":"コスイにうかぶ船"},{"$f":"問題!$D$99","v":"妹がシンパイだ"},{"$f":"問題!$D$100","v":"コトバの力"},{"$f":"問題!$D$101","v":"雨のバアイ"},{"$f":"問題!$D$102","v":"うで時計をツケル"}]
[{"$f":"問題!$E$77","v":"直線"},{"$f":"問題!$E$78","v":"代金"},{"$f":"問題!$E$79","v":"開く"},{"$f":"問題!$E$80","v":"市町村"},{"$f":"問題!$E$81","v":"題"},{"$f":"問題!$E$82","v":"一丁"},{"$f":"問題!$E$83","v":"薬箱"},{"$f":"問題!$E$84","v":"生"},{"$f":"問題!$E$85","v":"暗号"},{"$f":"問題!$E$86","v":"助言"},{"$f":"問題!$E$87","v":"感じる"},{"$f":"問題!$E$88","v":"児童"},{"$f":"問題!$E$89","v":"真夏"},{"$f":"問題!$E$90","v":"薬局"},{"$f":"問題!$E$91","v":"明らか"},{"$f":"問題!$E$92","v":"茶色"},{"$f":"問題!$E$93","v":"打つ"},{"$f":"問題!$E$94","v":"交ぜる"},{"$f":"問題!$E$95","v":"始まる"},{"$f":"問題!$E$96","v":"深い"},{"$f":"問題!$E$97","v":"有名人"},{"$f":"問題!$E$98","v":"湖水"},{"$f":"問題!$E$99","v":"心配"},{"$f":"問題!$E$100","v":"言葉"},{"$f":"問題!$E$101","v":"場合"}]

{"sheet":"問題","index":3,"n_rows":291,"n_cols":19,"rows_kept":291,"cut":false,"hidden":true,"merged":[]}
["単","通","乱","問","答",1,2,3,4,5,6,7,8,9,10,11,12,13,14]
[13,251,{"$f":"RAND()","v":0.27914036804420561},"スミビでやく","炭火",null,null,null,null,null,null,null,null,null,null,null,null,1]
[13,256,0.7850419143703119,"どちらもヒトシイ長さ","等しい",null,null,null,null,null,null,null,null,null,null,null,null,1]
[13,262,0.82616611453690603,"にもつをハコブ","運ぶ",null,null,null,null,null,null,null,null,null,null,null,null,1]
[13,264,0.41159724040790413,"車のウンテン","運転",null,null,null,null,null,null,null,null,null,null,null,null,1]
[13,261,0.94826421874724209,"セキタンを買う","石炭",null,null,null,null,null,null,null,null,null,null,null,null,1]
[13,254,0.31151949450612082,"ミヤダイクがたてた寺","宮大工",null,null,null,null,null,null,null,null,null,null,null,null,1]
[13,263,4.1633438866773731E-2,"京都のジインをめぐる","寺院",null,null,null,null,null,null,null,null,null,null,null,null,1]
[13,268,0.75301802398859963,"ニッキチョウを買う","日記帳",null,null,null,null,null,null,null,null,null,null,null,null,1]
[13,250,0.56232123822060631,"合図のフエ","笛",null,null,null,null,null,null,null,null,null,null,null,null,1]
[13,253,0.35010427110628595,"チュウショクをとる","昼食",null,null,null,null,null,null,null,null,null,null,null,null,1]
[13,265,0.5319725498219523,"船のジソクを調べる","時速",null,null,null,null,null,null,null,null,null,null,null,null,1]
[13,249,0.81135003248472126,"キオンを計る","気温",null,null,null,null,null,null,null,null,null,null,null,null,1]
[13,260,0.56301526828392767,"ヤクに立つ道具","役",null,null,null,null,null,null,null,null,null,null,null,null,1]
[13,259,0.14741424719535134,"ベンキョウする","勉強",null,null,null,null,null,null,null,null,null,null,null,null,1]
[13,252,1.5978256955698766E-2,"ヨウモウでできた服","羊毛",null,null,null,null,null,null,null,null,null,null,null,null,1]
[13,258,0.96516433636273835,"ようかんをトウブンする","等分",null,null,null,null,null,null,null,null,null,null,null,null,1]
[13,270,0.31253630687880085,"大きなヒツジ","羊",null,null,null,null,null,null,null,null,null,null,null,null,1]
[13,266,1.7089637468942431E-2,"キンコにしまう","金庫",null,null,null,null,null,null,null,null,null,null,null,null,1]
[13,255,0.70631933815594949,"計算がハヤイ","速い",null,null,null,null,null,null,null,null,null,null,null,null,1]
[13,269,3.1271922590026535E-2,"おかずをアタタメル","温める",null,null,null,null,null,null,null,null,null,null,null,null,1]
[13,267,2.3839381309786245E-2,"キテキをならす","汽笛",null,null,null,null,null,null,null,null,null,null,null,null,1]
[13,257,0.51403513275292512,"オウキュウに住む","王宮",null,null,null,null,null,null,null,null,null,null,null,null,1]
[7,127,0.60425688395517874,"シャシンをとる","写真",null,null,null,null,null,null,1]
[7,125,0.66689884586826131,"カカリの人にたずねる","係",null,null,null,null,null,null,1]
[10,184,0.42975181861972467,"ダイズを食べる","大豆",null,null,null,null,null,null,null,null,null,1]
[6,102,0.17730051724244955,"コトシの春","今年",null,null,null,null,null,1]
[10,190,0.91578463186515258,"こま切れのギュウニク","牛肉",null,null,null,null,null,null,null,null,null,1]
[7,128,0.66101586884800012,"ダイクさんの仕事","大工",null,null,null,null,null,null,1]
[14,281,0.51673024059398631,"カミサマにいのる","神様",null,null,null,null,null,null,null,null,null,null,null,null,null,1]
[6,106,0.93968870298314777,"かばんがオモイ","重い",null,null,null,null,null,1]
[3,59,0.22022635280661829,"紙のオモテとうら","表",null,null,1]
[7,130,0.70975164771820931,"しあいにマケル","負ける",null,null,null,null,null,null,1]
[12,236,0.12392352824171193,"土地をクブンする","区分",null,null,null,null,null,null,null,null,null,null,null,1]
[12,229,0.83445087001938179,"海へ魚をハナス","放す",null,null,null,null,null,null,null,null,null,null,null,1]
[7,133,0.40063336922890791,"ぐあいがワルイ","悪い",null,null,null,null,null,null,1]
[8,147,7.0339602111481492E-2,"ショジヒンをあずける","所持品",null,null,null,null,null,null,null,1]
[4,73,0.90647687055786874,"さいふをオトス","落とす",null,null,null,1]
[12,231,0.37749586369673904,"自転車をショユウする","所有",null,null,null,null,null,null,null,null,null,null,null,1]
[6,112,0.66808705687623182,"店のおキャクさん","客",null,null,null,null,null,1]
[3,58,0.87260602980461777,"オモな仕事","主人公",null,null,1]
[10,199,0.30363490319452024,"ニガッキがはじまる","二学期",null,null,null,null,null,null,null,null,null,1]
[12,248,0.61781156453222907,"ビじゅつ館に行く","美",null,null,null,null,null,null,null,null,null,null,null,1]
[5,83,0.82925552954568171,"ケンキュウをはじめる","研究",null,null,null,null,1]
[14,275,0.76400353788089814,"マツリを楽しむ","祭り",null,null,null,null,null,null,null,null,null,null,null,null,null,1]
[10,201,0.86584711959432636,"ハタケ仕事をする","畑",null,null,null,null,null,null,null,null,null,1]
[3,60,0.26506901343056111,"犬のかいヌシ","主人公",null,null,1]
[12,228,0.71208535252255767,"人生は楽あればクありだ","苦",null,null,null,null,null,null,null,null,null,null,null,1]
[12,232,0.981186359361781,"コンキよくつづける","根気",null,null,null,null,null,null,null,null,null,null,null,1]
[8,155,0.59140819812456336,"海でオヨグ","泳ぐ",null,null,null,null,null,null,null,1]
[7,132,0.73275161096681984,"イッポ前に出る","一歩",null,null,null,null,null,null,1]
[12,242,0.13577989717530903,"作戦をカイシする","開始",null,null,null,null,null,null,null,null,null,null,null,1]
[10,194,0.34894214035160009,"ショウカかつどうをする","消火",null,null,null,null,null,null,null,null,null,1]
[10,191,0.85928661802274997,"新聞のシュザイ","取材",null,null,null,null,null,null,null,null,null,1]
[2,24,0.56148101580158993,"カンジを書く","漢字",null,1]
[1,20,0.98877766497598363,"ジユウに話す","自由",1]
[6,118,0.52043406355605326,"トカイでくらす","都会",null,null,null,null,null,1]
[10,198,0.61675549547321484,"ノウギョウをはじめる","農業",null,null,null,null,null,null,null,null,null,1]
[7,126,0.90496316870593385,"日本はシマグニだ","島国",null,null,null,null,null,null,1]
[8,154,5.3562075610484872E-3,"おユをわかす","湯",null,null,null,null,null,null,null,1]
[3,51,0.14489297096959364,"足し算のシキ","式",null,null,1]
[12,241,0.44740496945953134,"ウツクシイ絵画","美しい",null,null,null,null,null,null,null,null,null,null,null,1]
[3,57,0.53233170130334895,"シナモノがならぶ","品物",null,null,1]
[8,148,0.21572240133148357,"ソウダンする","相談",null,null,null,null,null,null,null,1]
[10,195,0.70135371302113136,"夏がオワル","終わる",null,null,null,null,null,null,null,null,null,1]
[9,173,{"$f":"RAND()","v":3.0467141951220245E-2},"ニモツをもつ","荷物",null,null,null,null,null,null,null,null,1]
[4,79,0.96157683707688302,"ラクガキを消す","落書き",null,null,null,1]
[7,129,0.96854684615125819,"文をインヨウする","引用",null,null,null,null,null,null,1]
[6,111,0.2453876005766451,"石をナゲル","投げる",null,null,null,null,null,1]
[10,193,0.26291094819988925,"タビビトに出会う","旅人",null,null,null,null,null,null,null,null,null,1]
[6,114,0.11003172525791316,"ねらいがサダマル","定まる",null,null,null,null,null,1]
[9,166,0.46177900031533836,"昼にケイショクをとる","軽食",null,null,null,null,null,null,null,null,1]
[14,285,0.54554755049020975,"シンぴてきな音楽","神話",null,null,null,null,null,null,null,null,null,null,null,null,null,1]
[7,134,0.72006795325775441,"「川田とモウシます」","申し",null,null,null,null,null,null,1]
[1,14,5.245890202725656E-2,"ジメンに落ちる","地面",1]
[12,227,0.13793349146635348,"線をユビでなぞる","指",null,null,null,null,null,null,null,null,null,null,null,1]
[3,50,0.1648779162478623,"チョクセンを引く","直線",null,null,1]
[5,99,0.79388743551714736,"品物のダイキン","代金",null,null,null,null,1]
[2,26,0.27987028953517301,"とびらをヒラク","開く",null,1]
[12,240,0.62886471906079744,"シチョウソン","市町村",null,null,null,null,null,null,null,null,null,null,null,1]
[2,31,1.1221216237005671E-2,"作文のダイ","題",null,1]
[6,120,1.7736774983935222E-2,"とうふをイッチョウ買う","一丁",null,null,null,null,null,1]
[14,274,0.77474858344891795,"クスリバコ","薬箱",null,null,null,null,null,null,null,null,null,null,null,null,null,1]
[4,69,0.80374721646321667,"ナマたまご","生",null,null,null,1]
[9,181,0.96076172127733017,"アンゴウを考える","暗号",null,null,null,null,null,null,null,null,1]
[8,145,0.61092387262308501,"ジョゲンし合う","助言",null,null,null,null,null,null,null,1]
[9,167,0.28322733239148057,"春のおとずれをカンジル","感じる",null,null,null,null,null,null,null,null,1]
[4,63,0.48277084495969214,"ジドウ公園であそぶ","児童",null,null,null,1]
[6,110,0.66698717668655705,"マナツの大要","真夏",null,null,null,null,null,1]
[3,46,0.84296123516229216,"ヤッキョクへ行く","薬局",null,null,1]
[14,290,0.7452658229782928,"アキラカにおかしい","明らか",null,null,null,null,null,null,null,null,null,null,null,null,null,1]
[14,288,2.4094741345985882E-2,"チャイロの服","茶色",null,null,null,null,null,null,null,null,null,null,null,null,null,1]
[6,103,4.4932742358677502E-2,"たまをウツ","打つ",null,null,null,null,null,1]
[10,189,5.4584649798460005E-2,"米に麦をマゼル","交ぜる",null,null,null,null,null,null,null,null,null,1]
[12,237,0.2734284274247879,"工事がハジマル","始まる",null,null,null,null,null,null,null,null,null,null,null,1]
[8,152,0.73350139305303652,"フカイ海のそこ","深い",null,null,null,null,null,null,null,1]
[12,239,0.88566823946725148,"ユウメイジンに会う","有名人",null,null,null,null,null,null,null,null,null,null,null,1]
[7,140,0.51616679464766801,"コスイにうかぶ船","湖水",null,null,null,null,null,null,1]
[11,213,0.8250975142232797,"妹がシンパイだ","心配",null,null,null,null,null,null,null,null,null,null,1]
[2,21,0.97820337897025678,"コトバの力","言葉",null,1]
[2,35,0.24187168832254236,"雨のバアイ","場合",null,1]
[4,80,0.2956246076286575,"うで時計をツケル","着ける",null,null,null,1]
[5,92,0.37175552849358395,"家の電話バンゴウ","番号",null,null,null,null,1]
[4,61,0.69097864596603065,"弟がヒトリいる","一人",null,null,null,1]
[11,211,0.77954734578594254,"ハンタイから読む","反対",null,null,null,null,null,null,null,null,null,null,1]
[2,38,0.63842198543432171,"りょうりをアジワウ","味わう",null,1]
[2,32,0.52195870567626113,"はこのウチがわ","内",null,1]
[7,124,0.89023142595760374,"サンコウにした本","参考",null,null,null,null,null,null,1]
[9,163,0.35093646777095133,"チを流す","血",null,null,null,null,null,null,null,null,1]
[4,77,0.50249227481234926,"ソウダンにのる","相談",null,null,null,1]
[12,244,0.14479315099133716,"ケンリツ図書館","県立",null,null,null,null,null,null,null,null,null,null,null,1]
[2,33,3.2143748623087554E-2,"チョウシが悪い","調子",null,1]
[9,180,6.1552521721533249E-2,"イノチを守る仕事","命",null,null,null,null,null,null,null,null,1]
[11,212,0.52968477588516572,"きまりをマモル","守る",null,null,null,null,null,null,null,null,null,null,1]
[11,210,0.26676328478475542,"シアワセなことがつづく","幸せ",null,null,null,null,null,null,null,null,null,null,1]
[1,18,0.29454181166726012,"りすのウゴキ","動き",1]
[3,45,0.5745154656328223,"サクヒンのできばえ","作品",null,null,1]
[11,214,0.40247100410592895,"かぎをヒロウ","拾う",null,null,null,null,null,null,null,null,null,null,1]
[11,224,0.655395218955655,"きょう走にカツ","勝つ",null,null,null,null,null,null,null,null,null,null,1]
[14,283,0.11801757769787369,"アカリがうつくしい","明り",null,null,null,null,null,null,null,null,null,null,null,null,null,1]
[7,123,0.95160387171311367,"シンネンをいわう","新年",null,null,null,null,null,null,1]
[1,4,0.79490133397637253,"シブ音符","四分",1]
[14,273,0.33518633972659995,"急なサカミチ","坂道",null,null,null,null,null,null,null,null,null,null,null,null,null,1]
[14,289,9.7898606159974588E-2,"ウシロからまわりこむ","後ろ",null,null,null,null,null,null,null,null,null,null,null,null,null,1]
[6,105,0.22423649079800123,"ナミが高い","波",null,null,null,null,null,1]
[3,49,0.29592340268913675,"お話のシュジンコウ","主人公",null,null,1]
[12,247,0.98776327693930199,"朝のホウソウ","放送",null,null,null,null,null,null,null,null,null,null,null,1]
[12,230,0.26578046939760469,"ノチほどうかがいます。","後",null,null,null,null,null,null,null,null,null,null,null,1]
[5,86,0.49857265660556749,"本のサクシャ","作者",null,null,null,null,1]
[5,85,{"$f":"RAND()","v":0.25279663742071201},"ニワをながめる","庭",null,null,null,null,1]
[11,222,0.55126911114910671,"ハナイキをあらくする","鼻息",null,null,null,null,null,null,null,null,null,null,1]
[10,183,0.19563582749055752,"ニッコウがよく当たる","日光",null,null,null,null,null,null,null,null,null,1]
[11,220,0.60436065896002955,"コンドはぼくの番だ","今度",null,null,null,null,null,null,null,null,null,null,1]
[14,282,0.15767919953633658,"そせんをマツル","祭る",null,null,null,null,null,null,null,null,null,null,null,null,null,1]
[4,68,0.67243634229394289,"二十ビョウ","秒",null,null,null,1]
[1,13,0.72132839338126653,"フタリで話す","二人",1]
[12,234,0.20478899379607651,"ダンジョに分かれる","男女",null,null,null,null,null,null,null,null,null,null,null,1]
[3,44,0.20322327349802338,"川のタイガン","対岸",null,null,1]
[10,202,0.99364432074247599,"サラの上のおかず","皿",null,null,null,null,null,null,null,null,null,1]
[5,98,7.5085521765119068E-2,"兄のヨコガオ","横顔",null,null,null,null,1]
[4,67,0.52898836367950086,"楽しいデキゴト","出来事",null,null,null,1]
[1,15,6.93805185707983E-2,"モノガタリを読む","物語",1]
[9,178,0.73669942026153512,"カルイかばんを買う","軽い",null,null,null,null,null,null,null,null,1]
[11,216,0.71062038710786157,"ムカシバナシを聞く","昔話",null,null,null,null,null,null,null,null,null,null,1]
[7,138,5.2858556928335854E-2,"関ケイのない話","係",null,null,null,null,null,null,1]
[4,75,0.626418830772977,"ショクジの時間","食事",null,null,null,1]
[5,93,0.60271013166624321,"ごみをアツメル","集める",null,null,null,null,1]
[8,141,0.64497311701196214,"リョウテでかかえる","両手",null,null,null,null,null,null,null,1]
[6,101,7.3836812325924983E-2,"ヤキュウのしあい","野球",null,null,null,null,null,1]
[12,246,1.1771196833796571E-2,"大きさをシテイする","指定",null,null,null,null,null,null,null,null,null,null,null,1]
[9,164,0.60812155835296478,"クラクなる前に帰る","暗く",null,null,null,null,null,null,null,null,1]
[9,175,0.31052614780347731,"カナシイ物語","悲しい",null,null,null,null,null,null,null,null,1]
[8,150,0.23467272029023301,"よばれてふりカエル","返る",null,null,null,null,null,null,null,1]
[2,37,0.57961391033526932,"わけをトウ","問う",null,1]
[6,109,6.4038657840243318E-2,"ドウジに答える","同時",null,null,null,null,null,1]
[9,171,1.5521048261327386E-2,"まとにメイチュウさせる","命中",null,null,null,null,null,null,null,null,1]
[11,208,0.44158182654661515,"ビョウキにかかる","病気",null,null,null,null,null,null,null,null,null,null,1]
[2,27,0.813670439109763,"カタチをかえる","形",null,1]
[11,218,0.17721702412108509,"イシャから話を聞く","医者",null,null,null,null,null,null,null,null,null,null,1]
[1,5,0.53576582522988536,"カゾク","家族",1]
[11,207,0.59276977110418905,"道でコロブ","転ぶ",null,null,null,null,null,null,null,null,null,null,1]
[14,271,5.7450208443840078E-2,"ブンカサイに行く","文化祭",null,null,null,null,null,null,null,null,null,null,null,null,null,1]
[14,278,0.69509256523201435,"ろうそくにアカリをともす","明り",null,null,null,null,null,null,null,null,null,null,null,null,null,1]
[10,204,7.3176347213960935E-2,"しけんをウケル","受ける",null,null,null,null,null,null,null,null,null,1]
[4,64,0.92424794484978146,"図書カンへ行く","館",null,null,null,1]
[1,10,0.63042778796607069,"キョウのよてい","今日",1]
[3,56,0.39214628326361201,"クスリを飲む","薬局",null,null,1]
[5,96,0.60201453824176943,"モウヒツで書く","毛筆",null,null,null,null,1]
[6,113,0.71287546991329909,"キミたちの生き方","君",null,null,null,null,null,1]
[12,243,0.97852848301603079,"熱が出てクルシイ","苦しい",null,null,null,null,null,null,null,null,null,null,null,1]
[12,245,0.17398291503786267,"コウフクな人生","幸福",null,null,null,null,null,null,null,null,null,null,null,1]
[4,78,0.90381089530435466,"駅にツク","着く",null,null,null,1]
[2,22,0.75374587180733832,"イガイなこと","意外",null,1]
[14,286,0.26756135437272432,"フデバコを落とす","筆箱",null,null,null,null,null,null,null,null,null,null,null,null,null,1]
[6,108,0.81261217283280773,"歌をレンシュウする","練習",null,null,null,null,null,1]
[10,188,0.71114145498343173,"たぬきが人にバケル","化ける",null,null,null,null,null,null,null,null,null,1]
[8,149,0.74284086004539562,"はしをツカウ","使う",null,null,null,null,null,null,null,1]
[2,39,0.90933522922419663,"近くのサカヤさん","酒屋",null,1]
[9,179,0.5276159483086722,"バスにジョウシャする","乗車",null,null,null,null,null,null,null,null,1]
[12,238,0.50094796041117762,"にもつをオクル","送る",null,null,null,null,null,null,null,null,null,null,null,1]
[3,52,0.2499868031688558,"五のジュウバイ","商売",null,null,1]
[1,2,0.98437503377353663,"ショウバイ","商売",1]
[1,19,0.4888788272482596,"漢字のガクシュウ","学習",1]
[5,95,0.21802202163375206,"ゼンブおわる","全部",null,null,null,null,1]
[11,206,0.67827919209867749,"朝早くオキル","起きる",null,null,null,null,null,null,null,null,null,null,1]
[2,23,0.294593603957365,"イミを考える","意味",null,1]
[2,30,0.68861326144001112,"先生にしつモンする","問",null,1]
[14,279,0.88621272728771228,"シンワを読む","神話",null,null,null,null,null,null,null,null,null,null,null,null,null,1]
[3,54,0.35128032873059267,"広いノウジョウ","農場",null,null,1]
[1,7,3.0776973435953092E-2,"ケサの天気","今朝",1]
[1,9,0.50582127302208013,"ミがなる","実",1]
[4,76,0.45861878532036859,"イッチャクの服","一着",null,null,null,1]
[8,151,0.63883263568531901,"車にチュウイする","注意",null,null,null,null,null,null,null,1]
[11,209,{"$f":"RAND()","v":0.83485089566706494},"インショクテン","飲食店",null,null,null,null,null,null,null,null,null,null,1]
[1,17,0.54479454754231638,"コマカなちがい","細か",1]
[5,100,0.42625991223688209,"けが人がアイツグ","相次ぐ",null,null,null,null,1]
[7,122,0.59285732097794075,"文字のニュウリョク","入力",null,null,null,null,null,null,1]
[10,197,0.25040483068511543,"列をトトノエル","整える",null,null,null,null,null,null,null,null,null,1]
[11,221,0.39842198878383128,"犬がシヌ","死ぬ",null,null,null,null,null,null,null,null,null,null,1]
[4,74,0.60977706413572297,"イエジにつく","家路",null,null,null,1]
[5,84,0.45417203474698575,"ギョウレツができる","行列",null,null,null,null,1]
[2,25,0.75098810723788612,"本でシラベル","調べる",null,1]
[12,233,0.66846585097215883,"地図をサシしめす","指し",null,null,null,null,null,null,null,null,null,null,null,1]
[5,89,0.54966095722749564,"ユク手をふさぐ","行く",null,null,null,null,1]
[7,139,0.29339914544112444,"せきにんをオウ","負う",null,null,null,null,null,null,1]
[2,29,0.6557335867561358,"数がスクナイ","少ない",null,1]
[1,8,0.36816174418516034,"店がカイテンする","開店",1]
[9,161,0.95168389994791203,"車をオイかける","追い",null,null,null,null,null,null,null,null,1]
[6,107,0.57555389397156242,"スイヘイセンを見る","水平線",null,null,null,null,null,1]
[1,12,0.32564355593809058,"明るいバショ","場所",1]
[9,165,8.3076555064215851E-2,"ショチュウみまい","暑中",null,null,null,null,null,null,null,null,1]
[11,205,0.74354632457084635,"計画をススメル","進める",null,null,null,null,null,null,null,null,null,null,1]
[5,97,0.7969302442465237,"アブラでいためる","油",null,null,null,null,1]
[8,143,0.34373178541749561,"話し合いでキメル","決める",null,null,null,null,null,null,null,1]
[14,272,0.25856532735970517,"タニンとは思えない","他人",null,null,null,null,null,null,null,null,null,null,null,null,null,1]
[5,94,0.23719369239956845,"ギンのゆびわ","銀",null,null,null,null,1]
[10,196,0.48640187645612309,"ショウワのころの写真","昭和",null,null,null,null,null,null,null,null,null,1]
[4,62,0.1193041188988837,"新しいハッケン","発見",null,null,null,1]
[6,116,0.91633395455870659,"オトナになる","大人",null,null,null,null,null,1]
[11,215,0.86890669172744273,"イソイデ学校にむかう","急いで",null,null,null,null,null,null,null,null,null,null,1]
[1,3,9.2551021508400333E-2,"門をヒラク","開く",1]
[3,55,0.111112728408999,"しあいをオコナウ","行う",null,null,1]
[10,200,0.8445285610062726,"ガッキュウカイをひらく","学級会",null,null,null,null,null,null,null,null,null,1]
[4,71,0.60215168307708333,"ヨウフクをたたむ","洋服",null,null,null,1]
[4,72,0.38060968731040457,"話しアイテでになる","相手",null,null,null,1]
[8,144,1.1589894335111928E-2,"ひながソダツ","育つ",null,null,null,null,null,null,null,1]
[9,177,0.85998243900151172,"リュウヒョウを見に行く","流氷",null,null,null,null,null,null,null,null,1]
[5,91,0.7218021085188745,"ミジカイひも","短い",null,null,null,null,1]
[3,43,0.78318222875385102,"日本カイがわの地方","海",null,null,1]
[8,142,0.32424671408580075,"安全ダイイチ","第一",null,null,null,null,null,null,null,1]
[2,36,0.54777966071165929,"ニホンシュのびん","日本酒",null,1]
[8,160,0.15321146004155106,"ミの周りのこと","身",null,null,null,null,null,null,null,1]
[8,158,0.9092889859196458,"村のジュウミン","住民",null,null,null,null,null,null,null,1]
[7,121,6.8515990155799678E-3,"ヨソウが当たる","予想",null,null,null,null,null,null,1]
[4,66,0.33590360765899685,"広いドウロ","道路",null,null,null,1]
[9,170,0.14070579325114152,"元気にアソブ","遊ぶ",null,null,null,null,null,null,null,null,1]
[9,176,0.37738559698807261,"川にハシがかかる","橋",null,null,null,null,null,null,null,null,1]
[1,6,0.54553919504457216,"すみれのハ","葉",1]
[10,187,0.17464030026987609,"日やけしてカワがむける","皮",null,null,null,null,null,null,null,null,null,1]
[7,135,0.44571767436422871,"小さなミズウミ","湖",null,null,null,null,null,null,1]
[1,11,0.8608404023675359,"カアさんねずみ","母",1]
[8,153,0.97367435382016265,"ミナトに船が着く","港",null,null,null,null,null,null,null,1]
[14,276,0.30229240063810103,"ジンジャでおみくじを引く","神社",null,null,null,null,null,null,null,null,null,null,null,null,null,1]
[3,41,0.35226110689252699,"ユウショクの時間","夕食",null,null,1]
[2,34,0.68468450965544625,"あまいアジ","味",null,1]
[6,115,0.85782670512774073,"おレイを言う","礼",null,null,null,null,null,1]
[5,81,0.41891002973509206,"すすむホウコウ","方向",null,null,null,null,1]
[9,172,0.73812906822576607,"セカイ地図","世界",null,null,null,null,null,null,null,null,1]
[8,159,0.27794935753444761,"リョクチャをのむ","緑茶",null,null,null,null,null,null,null,1]
[7,131,0.21023250172598906,"マガリ角にある店","曲がり",null,null,null,null,null,null,1]
[6,119,0.57817754022338763,"シナイを走る電車","市内",null,null,null,null,null,1]
[7,137,0.43936992061369018,"キョネンの思い出","去年",null,null,null,null,null,null,1]
[14,277,0.31159357704854829,"５月ハツカの天気","二十日",null,null,null,null,null,null,null,null,null,null,null,null,null,1]
[3,53,0.87712477189186133,"タイヨウがのぼる","太陽",null,null,1]
[11,219,0.67639676782460001,"水で薬をノム","飲む",null,null,null,null,null,null,null,null,null,null,1]
[12,235,0.69043405628659327,"ヤネにのぼる","屋根",null,null,null,null,null,null,null,null,null,null,null,1]
[9,162,0.10404066011399915,"電車にノル","乗る",null,null,null,null,null,null,null,null,1]
[5,87,{"$f":"RAND()","v":3.2799786870848169E-2},"ツギの日の朝","次",null,null,null,null,1]
[8,146,0.48525686258358958,"ゼンインの力","全員",null,null,null,null,null,null,null,1]
[3,42,0.222750443899707,"ソウチョウから走る","早朝",null,null,1]
[14,280,5.9809908829774994E-2,"そのタのこと","他",null,null,null,null,null,null,null,null,null,null,null,null,null,1]
[11,226,0.59186873090873204,"駅で父をマツ","待つ",null,null,null,null,null,null,null,null,null,null,1]
[5,82,0.20510342829553496,"コウタイで休む","交代",null,null,null,null,1]
[9,169,0.17137224251038596,"今年の冬はサムイ","寒い",null,null,null,null,null,null,null,null,1]
[11,217,0.44012296591781463,"友だちがテンコウする","転校",null,null,null,null,null,null,null,null,null,null,1]
[1,16,0.50526465472862836,"トウジョウジンブツ","登場人物",1]
[2,40,0.81590821843084282,"トイと答え","問い",null,1]
[10,185,4.9692850039961489E-2,"近所のシカに行く","歯科",null,null,null,null,null,null,null,null,null,1]
[3,48,0.8378317224694164,"歌のハッピョウカイ","発表会",null,null,1]
[14,284,7.0317235583229332E-3,"おじがタカイした","他界",null,null,null,null,null,null,null,null,null,null,null,null,null,1]
[10,192,1.1137121481947121E-2,"ショクブツを育てる","植物",null,null,null,null,null,null,null,null,null,1]
[11,225,0.22498155172300072,"シュクダイが出る","宿題",null,null,null,null,null,null,null,null,null,null,1]
[10,186,0.65999584247129262,"火がキエル","消える",null,null,null,null,null,null,null,null,null,1]
[9,168,0.69460681762979737,"うつわにコオリをいれる","氷",null,null,null,null,null,null,null,null,1]
[5,90,0.13231533818145524,"長いブンショウ","文章",null,null,null,null,1]
[4,70,0.7919084587421017,"ふくをキル","着る",null,null,null,1]
[6,117,0.85627697683259374,"へやのチュウオウ","中央",null,null,null,null,null,1]
[6,104,0.82009221317550862,"海岸のリュウボク","流木",null,null,null,null,null,1]
[4,65,0.10332087137566415,"つくえのカド","角",null,null,null,1]
[11,223,9.626417498272577E-2,"コヤを作る","小屋",null,null,null,null,null,null,null,null,null,null,1]
[5,88,0.84301092631370422,"ヨウスを見る","様子",null,null,null,null,1]
[10,203,0.28782892194726539,"ついハナウタが出る","鼻歌",null,null,null,null,null,null,null,null,null,1]
[9,174,0.84278933273218604,"キュウシュウに行く","九州",null,null,null,null,null,null,null,null,1]
[9,182,0.1834242647872717,"夏はアツイ","暑い",null,null,null,null,null,null,null,null,1]
[14,287,0.21890331659129292,"クダリザカをかけおりる","下り坂",null,null,null,null,null,null,null,null,null,null,null,null,null,1]
[7,136,5.3309698982361708E-2,"交通アンゼン","安全",null,null,null,null,null,null,1]
[2,28,0.4246610997431971,"あまザケをのむ","酒",null,1]
[8,156,0.90709323672251185,"テッパンで肉をやく","鉄板",null,null,null,null,null,null,null,1]
[8,157,0.36522960450125941,"デンチュウがならぶ","電柱",null,null,null,null,null,null,null,1]
[1,1,0.63874827355795971,"イップンカン","一分間",1]
[3,47,0.35308980649794064,"図にアラワス","表す",null,null,1]