{"text_format":"1","workbook":"xlsx","n_sheets":4,"sheets":["２０問（印刷用）","10問（印刷用）","５０問（印刷用）","問題"],"not_rendered":{"charts":0,"images":0,"macros":1,"external_links":0,"defined_names":3,"comments":0,"pivot_tables":0},"unopened":[],"bounds":{"document_bytes":16777216,"sheet_cells":100000,"rows_first":2000,"rows_last":500,"rows_between":2000,"halvings":0,"cell_chars":16384,"cell_head_chars":4096},"cells_cut":0,"cells_raw":0,"read":"whole","date_system":"1900"}

{"sheet":"２０問（印刷用）","index":0,"n_rows":16,"n_cols":22,"rows_kept":16,"cut":false,"hidden":false,"merged":[[1,17,14,17],[1,18,14,18],[1,8,14,8],[1,5,14,5],[1,0,14,0],[1,1,14,1],[1,2,14,2],[1,3,14,3],[1,4,14,4],[15,0,26,0],[15,3,26,3],[15,2,26,2],[15,15,26,15],[15,14,26,14],[15,8,26,8],[15,9,26,9],[15,13,26,13],[15,12,26,12],[15,11,26,11],[15,10,26,10],[15,1,26,1],[15,4,26,4],[15,19,26,19],[15,18,26,18],[15,17,26,17],[15,16,26,16],[0,20,26,20],[0,21,26,21],[15,7,26,7],[15,6,26,6],[15,5,26,5],[1,11,14,11],[1,9,14,9],[1,10,14,10],[1,6,14,6],[1,7,14,7],[1,19,14,19],[1,12,14,12],[1,13,14,13],[1,14,14,14],[1,15,14,15],[1,16,14,16]]}
[20,19,18,17,16,15,14,13,12,11,10,9,8,7,6,5,4,3,2,1,"カタカナを漢字に直しましょう。送りがながひつようなものは送りがなも書きます。","五年生の漢字二十問　月　日　（　　　　　　　　　　　）　　　点"]
[{"$f":"'５０問（印刷用）'!F2","v":"オオゼイの人が集まる"},{"$f":"'５０問（印刷用）'!G2","v":"テンキョとどけを出す"},{"$f":"'５０問（印刷用）'!H2","v":"ツマと食事に行く"},{"$f":"'５０問（印刷用）'!I2","v":"ジダイを重く見る"},{"$f":"'５０問（印刷用）'!J2","v":"入場をキンシする"},{"$f":"'５０問（印刷用）'!K2","v":"夏休みのタイケン"},{"$f":"'５０問（印刷用）'!L2","v":"ジュンジョよくならぶ"},{"$f":"'５０問（印刷用）'!M2","v":"ひざをマジエル"},{"$f":"'５０問（印刷用）'!N2","v":"キシュク生活を送る"},{"$f":"'５０問（印刷用）'!O2","v":"辞書でタシカメル"},{"$f":"'５０問（印刷用）'!P2","v":"提案にサンセイする"},{"$f":"'５０問（印刷用）'!Q2","v":"ナイヨウを理解する"},{"$f":"'５０問（印刷用）'!R2","v":"学校をウツル"},{"$f":"'５０問（印刷用）'!S2","v":"キホンになること"},{"$f":"'５０問（印刷用）'!T2","v":"場所をゲンテイする"},{"$f":"'５０問（印刷用）'!U2","v":"山でコウザンをほる"},{"$f":"'５０問（印刷用）'!V2","v":"サライシュウの日曜日"},{"$f":"'５０問（印刷用）'!W2","v":"美しいケシキ"},{"$f":"'５０問（印刷用）'!X2","v":"昔の家をサイゲンする"},{"$f":"'５０問（印刷用）'!Y2","v":"野球部にショゾクする"}]
[]
[]
[]
[]
[]
[]
[]
[]
[]
[]
[]
[]
[]
[{"$f":"'５０問（印刷用）'!F3","v":"大勢"},{"$f":"'５０問（印刷用）'!G3","v":"転居"},{"$f":"'５０問（印刷用）'!H3","v":"妻"},{"$f":"'５０問（印刷用）'!I3","v":"事態"},{"$f":"'５０問（印刷用）'!J3","v":"禁止"},{"$f":"'５０問（印刷用）'!K3","v":"体験"},{"$f":"'５０問（印刷用）'!L3","v":"順序"},{"$f":"'５０問（印刷用）'!M3","v":"交える"},{"$f":"'５０問（印刷用）'!N3","v":"寄宿"},{"$f":"'５０問（印刷用）'!O3","v":"確かめる"},{"$f":"'５０問（印刷用）'!P3","v":"賛成"},{"$f":"'５０問（印刷用）'!Q3","v":"内容"},{"$f":"'５０問（印刷用）'!R3","v":"移る"},{"$f":"'５０問（印刷用）'!S3","v":"基本"},{"$f":"'５０問（印刷用）'!T3","v":"限定"},{"$f":"'５０問（印刷用）'!U3","v":"鉱山"},{"$f":"'５０問（印刷用）'!V3","v":"再来週"},{"$f":"'５０問（印刷用）'!W3","v":"景色"},{"$f":"'５０問（印刷用）'!X3","v":"再現"},{"$f":"'５０問（印刷用）'!Y3","v":"所属"}]

{"sheet":"10問（印刷用）","index":1,"n_rows":16,"n_cols":12,"rows_kept":16,"cut":false,"hidden":false,"merged":[[15,4,25,4],[0,11,25,11],[1,0,14,0],[1,1,14,1],[1,2,14,2],[1,3,14,3],[1,4,14,4],[1,5,14,5],[15,0,25,0],[15,1,25,1],[1,8,14,8],[1,9,14,9],[15,7,25,7],[15,2,25,2],[15,5,25,5],[15,6,25,6],[15,3,25,3],[15,8,25,8],[15,9,25,9],[1,6,14,6],[1,7,14,7],[0,10,25,10]]}
[10,9,8,7,6,5,4,3,2,1,"カタカナを漢字に直しましょう。送りがながひつようなものは送りがなも書きます。","五年生の漢字十問　　月　日　（　　　　　　　　　　　　　　）　　　　点　　　　　"]
[{"$f":"'２０問（印刷用）'!K2:K15","v":"提案にサンセイする"},{"$f":"'２０問（印刷用）'!L2:L15","v":"ナイヨウを理解する"},{"$f":"'２０問（印刷用）'!M2:M15","v":"学校をウツル"},{"$f":"'２０問（印刷用）'!N2:N15","v":"キホンになること"},{"$f":"'２０問（印刷用）'!O2:O15","v":"場所をゲンテイする"},{"$f":"'２０問（印刷用）'!P2:P15","v":"山でコウザンをほる"},{"$f":"'２０問（印刷用）'!Q2:Q15","v":"サライシュウの日曜日"},{"$f":"'２０問（印刷用）'!R2:R15","v":"美しいケシキ"},{"$f":"'２０問（印刷用）'!S2:S15","v":"昔の家をサイゲンする"},{"$f":"'２０問（印刷用）'!T2:T15","v":"野球部にショゾクする"}]
[]
[]
[]
[]
[]
[]
[]
[]
[]
[]
[]
[]
[]
[{"$f":"'２０問（印刷用）'!K16:K27","v":"賛成"},{"$f":"'２０問（印刷用）'!L16:L27","v":"内容"},{"$f":"'２０問（印刷用）'!M16:M27","v":"移る"},{"$f":"'２０問（印刷用）'!N16:N27","v":"基本"},{"$f":"'２０問（印刷用）'!O16:O27","v":"限定"},{"$f":"'２０問（印刷用）'!P16:P27","v":"鉱山"},{"$f":"'２０問（印刷用）'!Q16:Q27","v":"再来週"},{"$f":"'２０問（印刷用）'!R16:R27","v":"景色"},{"$f":"'２０問（印刷用）'!S16:S27","v":"再現"},{"$f":"'２０問（印刷用）'!T16:T27","v":"所属"}]

{"sheet":"５０問（印刷用）","index":2,"n_rows":12,"n_cols":27,"rows_kept":12,"cut":false,"hidden":false,"merged":[[126,0,136,0],[51,0,61,0],[37,0,50,0],[7,26,11,26],[0,26,5,26],[0,25,5,25],[101,0,111,0],[26,0,36,0],[87,0,100,0],[76,0,86,0],[201,0,211,0],[187,0,200,0],[176,0,186,0],[151,0,161,0],[137,0,150,0]]}
[25,24,23,22,21,20,19,18,17,16,15,14,13,12,11,10,9,8,7,6,5,4,3,2,1,"カタカナを漢字に直しましょう。送りがながひつようなものは送りがなも書きます。","五年生の漢字五十問　月　日　（　　　　　　　　　　　　　　　）　　　　　点"]
[{"$f":"問題!$D$26","v":"ジムショで働く"},{"$f":"問題!$D$25","v":"ゆカイな話をする"},{"$f":"問題!$D$24","v":"くわしくキジュツする"},{"$f":"問題!$D$23","v":"薬のコウカが出る"},{"$f":"問題!$D$22","v":"新しいコウソウを練る"},{"$f":"問題!$D$21","v":"オオゼイの人が集まる"},{"$f":"問題!$D$20","v":"テンキョとどけを出す"},{"$f":"問題!$D$19","v":"ツマと食事に行く"},{"$f":"問題!$D$18","v":"ジダイを重く見る"},{"$f":"問題!$D$17","v":"入場をキンシする"},{"$f":"問題!$D$16","v":"夏休みのタイケン"},{"$f":"問題!$D$15","v":"ジュンジョよくならぶ"},{"$f":"問題!$D$14","v":"ひざをマジエル"},{"$f":"問題!$D$13","v":"キシュク生活を送る"},{"$f":"問題!$D$12","v":"辞書でタシカメル"},{"$f":"問題!$D$11","v":"提案にサンセイする"},{"$f":"問題!$D$10","v":"ナイヨウを理解する"},{"$f":"問題!$D$9","v":"学校をウツル"},{"$f":"問題!$D$8","v":"キホンになること"},{"$f":"問題!$D$7","v":"場所をゲンテイする"},{"$f":"問題!$D$6","v":"山でコウザンをほる"},{"$f":"問題!$D$5","v":"サライシュウの日曜日"},{"$f":"問題!$D$4","v":"美しいケシキ"},{"$f":"問題!$D$3","v":"昔の家をサイゲンする"},{"$f":"問題!$D$2","v":"野球部にショゾクする"}]
[{"$f":"問題!$E$26","v":"事務所"},{"$f":"問題!$E$25","v":"快"},{"$f":"問題!$E$24","v":"記述"},{"$f":"問題!$E$23","v":"効果"},{"$f":"問題!$E$22","v":"構想"},{"$f":"問題!$E$21","v":"大勢"},{"$f":"問題!$E$20","v":"転居"},{"$f":"問題!$E$19","v":"妻"},{"$f":"問題!$E$18","v":"事態"},{"$f":"問題!$E$17","v":"禁止"},{"$f":"問題!$E$16","v":"体験"},{"$f":"問題!$E$15","v":"順序"},{"$f":"問題!$E$14","v":"交える"},{"$f":"問題!$E$13","v":"寄宿"},{"$f":"問題!$E$12","v":"確かめる"},{"$f":"問題!$E$11","v":"賛成"},{"$f":"問題!$E$10","v":"内容"},{"$f":"問題!$E$9","v":"移る"},{"$f":"問題!$E$8","v":"基本"},{"$f":"問題!$E$7","v":"限定"},{"$f":"問題!$E$6","v":"鉱山"},{"$f":"問題!$E$5","v":"再来週"},{"$f":"問題!$E$4","v":"景色"},{"$f":"問題!$E$3","v":"再現"},{"$f":"問題!$E$2","v":"所属"}]
[50,49,48,47,46,45,44,43,42,41,40,39,38,37,36,35,34,33,32,31,30,29,28,27,26]
[{"$f":"問題!$D$27","v":"百人アマリの人"},{"$f":"問題!$D$28","v":"キュウギ大会を開く"},{"$f":"問題!$D$29","v":"親切にタイオウする"},{"$f":"問題!$D$30","v":"ユタカな社会"},{"$f":"問題!$D$31","v":"最初にヨウケンを言う"},{"$f":"問題!$D$32","v":"九回にギャクテンする"},{"$f":"問題!$D$33","v":"セントウのえんとつ"},{"$f":"問題!$D$34","v":"昔の文字をカイドクする"},{"$f":"問題!$D$35","v":"ビルをケンセツする"},{"$f":"問題!$D$36","v":"コウセキをたたえる"},{"$f":"問題!$D$37","v":"明日のジュンビ"},{"$f":"問題!$D$38","v":"健康をタモツ"},{"$f":"問題!$D$39","v":"旅行者がゾウカする"},{"$f":"問題!$D$40","v":"主語とジュツゴ"},{"$f":"問題!$D$41","v":"ジョウホウを公開する"},{"$f":"問題!$D$42","v":"村の人口がヘル"},{"$f":"問題!$D$43","v":"平成ガンネンの生まれ"},{"$f":"問題!$D$44","v":"ジュギョウで発信する"},{"$f":"問題!$D$45","v":"ムダンで借りる"},{"$f":"問題!$D$46","v":"高くヒョウカする"},{"$f":"問題!$D$47","v":"界を七名でｺｳｾｲする"},{"$f":"問題!$D$48","v":"カノウセイを信じる"},{"$f":"問題!$D$49","v":"ビルを「カイゾウ」する　"},{"$f":"問題!$D$50","v":"フジンフクの店"},{"$f":"問題!$D$51","v":"試験にソナエル"}]
[{"$f":"問題!$E$27","v":"余り"},{"$f":"問題!$E$28","v":"球技"},{"$f":"問題!$E$29","v":"対応"},{"$f":"問題!$E$30","v":"豊か"},{"$f":"問題!$E$31","v":"用件"},{"$f":"問題!$E$32","v":"逆転"},{"$f":"問題!$E$33","v":"銭湯"},{"$f":"問題!$E$34","v":"解読"},{"$f":"問題!$E$35","v":"建設"},{"$f":"問題!$E$36","v":"功績"},{"$f":"問題!$E$37","v":"準備"},{"$f":"問題!$E$38","v":"保つ"},{"$f":"問題!$E$39","v":"増加"},{"$f":"問題!$E$40","v":"述語"},{"$f":"問題!$E$41","v":"情報"},{"$f":"問題!$E$42","v":"減る"},{"$f":"問題!$E$43","v":"元年"},{"$f":"問題!$E$44","v":"授業"},{"$f":"問題!$E$45","v":"無断"},{"$f":"問題!$E$46","v":"評価"},{"$f":"問題!$E$47","v":"構成"},{"$f":"問題!$E$48","v":"可能性"},{"$f":"問題!$E$49","v":"改造"},{"$f":"問題!$E$50","v":"婦人服"},{"$f":"問題!$E$51","v":"備える"}]
[75,74,73,72,71,70,69,68,67,66,65,64,63,62,61,60,59,58,57,56,55,54,53,52,51]
[{"$f":"問題!$D$52","v":"会社をソシキする"},{"$f":"問題!$D$53","v":"海のジョウタイが変わる"},{"$f":"問題!$D$54","v":"ソウドウインする"},{"$f":"問題!$D$55","v":"たんぽぽのワタゲ"},{"$f":"問題!$D$56","v":"ケイケンが浅い"},{"$f":"問題!$D$57","v":"練習時間がフエル"},{"$f":"問題!$D$58","v":"ケツダンをせまられる"},{"$f":"問題!$D$59","v":"民主シュギの社会"},{"$f":"問題!$D$60","v":"ユウコウな方法"},{"$f":"問題!$D$61","v":"文章をシュウセイする"},{"$f":"問題!$D$62","v":"親しみがマス"},{"$f":"問題!$D$63","v":"本人にタシカメる"},{"$f":"問題!$D$64","v":"機械をテンケンする"},{"$f":"問題!$D$65","v":"本にキョウミをもつ"},{"$f":"問題!$D$66","v":"一週間テイド"},{"$f":"問題!$D$67","v":"品物がハソンする"},{"$f":"問題!$D$68","v":"兄はお天気ハカセだ"},{"$f":"問題!$D$69","v":"文章をシュウセイする"},{"$f":"問題!$D$70","v":"国家をコウセイする"},{"$f":"問題!$D$71","v":"カザカミに向かって歩く"},{"$f":"問題!$D$72","v":"人の目をイシキする"},{"$f":"問題!$D$73","v":"人数を百人にカギル"},{"$f":"問題!$D$74","v":"ザイサンをきずく"},{"$f":"問題!$D$75","v":"学級会でシツモンする"},{"$f":"問題!$D$76","v":"キュウドウを歩く"}]
[{"$f":"問題!$E$52","v":"組織"},{"$f":"問題!$E$53","v":"状態"},{"$f":"問題!$E$54","v":"総動員"},{"$f":"問題!$E$55","v":"綿毛"},{"$f":"問題!$E$56","v":"経験"},{"$f":"問題!$E$57","v":"増える"},{"$f":"問題!$E$58","v":"決断"},{"$f":"問題!$E$59","v":"主義"},{"$f":"問題!$E$60","v":"有効"},{"$f":"問題!$E$61","v":"修正"},{"$f":"問題!$E$62","v":"増す"},{"$f":"問題!$E$63","v":"確かめる"},{"$f":"問題!$E$64","v":"点検"},{"$f":"問題!$E$65","v":"興味"},{"$f":"問題!$E$66","v":"程度"},{"$f":"問題!$E$67","v":"破損"},{"$f":"問題!$E$68","v":"博士"},{"$f":"問題!$E$69","v":"修正"},{"$f":"問題!$E$70","v":"構成"},{"$f":"問題!$E$71","v":"風上"},{"$f":"問題!$E$72","v":"意識"},{"$f":"問題!$E$73","v":"限る"},{"$f":"問題!$E$74","v":"財産"},{"$f":"問題!$E$75","v":"質問"},{"$f":"問題!$E$76","v":"旧道"}]
[100,99,98,97,96,95,94,93,92,91,90,89,88,87,86,85,84,83,82,81,80,79,78,77,76]
[{"$f":"問題!$D$77","v":"試合のカイセツを聞く"},{"$f":"問題!$D$78","v":"きっぷをテイジする"},{"$f":"問題!$D$79","v":"機械のセイドが高い"},{"$f":"問題!$D$80","v":"糸をぴんとハル"},{"$f":"問題!$D$81","v":"ケツエキを検査する"},{"$f":"問題!$D$82","v":"本屋にヨル"},{"$f":"問題!$D$83","v":"テキと和解する"},{"$f":"問題!$D$84","v":"カコを振り返る"},{"$f":"問題!$D$85","v":"ソボの着物を着る"},{"$f":"問題!$D$86","v":"キテイの料金をはらう"},{"$f":"問題!$D$87","v":"ガンカ医になる"},{"$f":"問題!$D$88","v":"里山のゾウキバヤシ"},{"$f":"問題!$D$89","v":"カコウの近くにいる魚"},{"$f":"問題!$D$90","v":"コウドウに集合する"},{"$f":"問題!$D$91","v":"ヒジョウグチのとびら"},{"$f":"問題!$D$92","v":"頭の中でソウゾウする"},{"$f":"問題!$D$93","v":"アツリョクをかける"},{"$f":"問題!$D$94","v":"しんけんなタイド"},{"$f":"問題!$D$95","v":"ハンニンをつかまえる"},{"$f":"問題!$D$96","v":"コウふんしてねむれない"},{"$f":"問題!$D$97","v":"会議でテイアンする"},{"$f":"問題!$D$98","v":"二時間でオウフクする"},{"$f":"問題!$D$99","v":"鳥の世話をマカセル"},{"$f":"問題!$D$100","v":"数学者をココロザス"},{"$f":"問題!$D$101","v":"気持をヒョウゲンする"}]
[{"$f":"問題!$E$77","v":"解説"},{"$f":"問題!$E$78","v":"提示"},{"$f":"問題!$E$79","v":"精度"},{"$f":"問題!$E$80","v":"張る"},{"$f":"問題!$E$81","v":"血液"},{"$f":"問題!$E$82","v":"寄る"},{"$f":"問題!$E$83","v":"敵"},{"$f":"問題!$E$84","v":"過去"},{"$f":"問題!$E$85","v":"祖母"},{"$f":"問題!$E$86","v":"規定"},{"$f":"問題!$E$87","v":"眼科"},{"$f":"問題!$E$88","v":"雑木林"},{"$f":"問題!$E$89","v":"河口"},{"$f":"問題!$E$90","v":"講堂"},{"$f":"問題!$E$91","v":"非常口"},{"$f":"問題!$E$92","v":"想像"},{"$f":"問題!$E$93","v":"圧力"},{"$f":"問題!$E$94","v":"態度"},{"$f":"問題!$E$95","v":"犯人"},{"$f":"問題!$E$96","v":"興"},{"$f":"問題!$E$97","v":"提案"},{"$f":"問題!$E$98","v":"往復"},{"$f":"問題!$E$99","v":"任せる"},{"$f":"問題!$E$100","v":"志す"},{"$f":"問題!$E$101","v":"表現"}]

{"sheet":"問題","index":3,"n_rows":344,"n_cols":23,"rows_kept":344,"cut":false,"hidden":true,"merged":[]}
["単","通","乱","問","答",1,2,3,4,5,6,7,8,9,10,11,12,13,14,15,16,17,18]
[3,58,{"$f":"RAND()","v":0.11364199716367862},"野球部にショゾクする","所属",null,null,1]
[11,231,0.63772024720916842,"昔の家をサイゲンする","再現",null,null,null,null,null,null,null,null,null,null,1]
[6,138,0.67395131612918413,"美しいケシキ","景色",null,null,null,null,null,1]
[12,257,0.56598779509428165,"サライシュウの日曜日","再来週",null,null,null,null,null,null,null,null,null,null,null,1]
[10,215,0.37616157419989693,"山でコウザンをほる","鉱山",null,null,null,null,null,null,null,null,null,1]
[12,247,0.26816870422935313,"場所をゲンテイする","限定",null,null,null,null,null,null,null,null,null,null,null,1]
[17,115,0.23065129302633758,"キホンになること","基本",null,null,null,null,null,null,null,null,null,null,null,null,null,null,null,null,1]
[17,112,0.72468537437678471,"学校をウツル","移る",null,null,null,null,null,null,null,null,null,null,null,null,null,null,null,null,1]
[2,24,0.84837675222123743,"ナイヨウを理解する","内容",null,1]
[7,149,0.58981543306641837,"提案にサンセイする","賛成",null,null,null,null,null,null,1]
[7,148,0.54139513252577198,"辞書でタシカメル","確かめる",null,null,null,null,null,null,1]
[1,8,0.13893843847800735,"キシュク生活を送る","寄宿",1]
[3,60,0.55024175481463533,"ひざをマジエル","交える",null,null,1]
[5,100,0.31667192846265335,"ジュンジョよくならぶ","順序",null,null,null,null,1]
[1,7,0.71006500894420621,"夏休みのタイケン","体験",1]
[7,158,0.88041175902064528,"入場をキンシする","禁止",null,null,null,null,null,null,1]
[4,74,0.85948327141384162,"ジダイを重く見る","事態",null,null,null,1]
[8,179,0.96783925986109154,"ツマと食事に行く","妻",null,null,null,null,null,null,null,1]
[6,127,0.50695576816649413,"テンキョとどけを出す","転居",null,null,null,null,null,1]
[4,79,0.31371744504616972,"オオゼイの人が集まる","大勢",null,null,null,1]
[17,104,0.68834481071068954,"新しいコウソウを練る","構想",null,null,null,null,null,null,null,null,null,null,null,null,null,null,null,null,1]
[3,57,0.19350205236136031,"薬のコウカが出る","効果",null,null,1]
[1,16,0.93261816972517109,"くわしくキジュツする","記述",1]
[8,161,0.33370469168348682,"ゆカイな話をする","快",null,null,null,null,null,null,null,1]
[13,275,0.27056438000764094,"ジムショで働く","事務所",null,null,null,null,null,null,null,null,null,null,null,null,1]
[4,63,0.84795391543259024,"百人アマリの人","余り",null,null,null,1]
[8,171,0.73224229882922864,"キュウギ大会を開く","球技",null,null,null,null,null,null,null,1]
[5,96,0.49366998717479604,"親切にタイオウする","対応",null,null,null,null,1]
[3,48,0.39465356697799858,"ユタカな社会","豊か",null,null,1]
[12,260,0.9126447464944234,"最初にヨウケンを言う","用件",null,null,null,null,null,null,null,null,null,null,null,1]
[2,27,0.21949992410459684,"九回にギャクテンする","逆転",null,1]
[10,212,5.9744050389601844E-2,"セントウのえんとつ","銭湯",null,null,null,null,null,null,null,null,null,1]
[6,122,3.8855926560665832E-2,"昔の文字をカイドクする","解読",null,null,null,null,null,1]
[3,53,0.47161329050758094,"ビルをケンセツする","建設",null,null,1]
[4,70,1.786673397380012E-2,"コウセキをたたえる","功績",null,null,null,1]
[5,85,0.85694174512320465,"明日のジュンビ","準備",null,null,null,null,1]
[3,46,0.4429971179326111,"健康をタモツ","保つ",null,null,1]
[11,225,4.3408401681761299E-2,"旅行者がゾウカする","増加",null,null,null,null,null,null,null,null,null,null,1]
[5,95,0.55712373338033838,"主語とジュツゴ","述語",null,null,null,null,1]
[12,241,0.5741370670733249,"ジョウホウを公開する","情報",null,null,null,null,null,null,null,null,null,null,null,1]
[9,200,0.92638518825684102,"村の人口がヘル","減る",null,null,null,null,null,null,null,null,1]
[4,64,0.93061356377543303,"平成ガンネンの生まれ","元年",null,null,null,1]
[7,141,0.5299955467995785,"ジュギョウで発信する","授業",null,null,null,null,null,null,1]
[12,254,0.83207614981880917,"ムダンで借りる","無断",null,null,null,null,null,null,null,null,null,null,null,1]
[13,262,0.88003618891499913,"高くヒョウカする","評価",null,null,null,null,null,null,null,null,null,null,null,null,1]
[5,86,0.89041910045238049,"界を七名でｺｳｾｲする","構成",null,null,null,null,1]
[12,255,0.45334955115542341,"カノウセイを信じる","可能性",null,null,null,null,null,null,null,null,null,null,null,1]
[11,221,0.41791753676060428,"ビルを「カイゾウ」する　","改造",null,null,null,null,null,null,null,null,null,null,1]
[8,180,9.4518066643797249E-3,"フジンフクの店","婦人服",null,null,null,null,null,null,null,1]
[17,103,0.78713451228203113,"試験にソナエル","備える",null,null,null,null,null,null,null,null,null,null,null,null,null,null,null,null,1]
[6,134,0.88121490433533434,"会社をソシキする","組織",null,null,null,null,null,1]
[9,188,0.63118044288057762,"海のジョウタイが変わる","状態",null,null,null,null,null,null,null,null,1]
[11,232,0.65435733021516107,"ソウドウインする","総動員",null,null,null,null,null,null,null,null,null,null,1]
[13,268,0.76751900799205786,"たんぽぽのワタゲ","綿毛",null,null,null,null,null,null,null,null,null,null,null,null,1]
[3,52,0.71031386300004606,"ケイケンが浅い","経験",null,null,1]
[11,224,0.4279154618629526,"練習時間がフエル","増える",null,null,null,null,null,null,null,null,null,null,1]
[4,62,0.618339828170276,"ケツダンをせまられる","決断",null,null,null,1]
[17,108,0.93724842076815473,"民主シュギの社会","主義",null,null,null,null,null,null,null,null,null,null,null,null,null,null,null,null,1]
[5,99,0.14655014211113171,"ユウコウな方法","有効",null,null,null,null,1]
[12,259,0.52942660096525995,"文章をシュウセイする","修正",null,null,null,null,null,null,null,null,null,null,null,1]
[11,226,0.83326794910034896,"親しみがマス","増す",null,null,null,null,null,null,null,null,null,null,1]
[3,55,0.30408626399150906,"本人にタシカメる","確かめる",null,null,1]
[5,98,0.30277476932049985,"機械をテンケンする","点検",null,null,null,null,1]
[2,23,0.87109717110603302,"本にキョウミをもつ","興味",null,1]
[3,45,{"$f":"RAND()","v":0.50532713600926982},"一週間テイド","程度",null,null,1]
[6,132,0.17095952757597022,"品物がハソンする","破損",null,null,null,null,null,1]
[6,121,0.95086760299763107,"兄はお天気ハカセだ","博士",null,null,null,null,null,1]
[9,195,0.61048471399874227,"文章をシュウセイする","修正",null,null,null,null,null,null,null,null,1]
[1,12,0.66460430523742731,"国家をコウセイする","構成",1]
[7,159,0.70215589139372747,"カザカミに向かって歩く","風上",null,null,null,null,null,null,1]
[4,72,0.88852097002841512,"人の目をイシキする","意識",null,null,null,1]
[12,246,0.95893631062000007,"人数を百人にカギル","限る",null,null,null,null,null,null,null,null,null,null,null,1]
[8,172,0.67777319765301258,"ザイサンをきずく","財産",null,null,null,null,null,null,null,1]
[3,54,0.41444531060000145,"学級会でシツモンする","質問",null,null,1]
[6,126,0.88251658536562894,"キュウドウを歩く","旧道",null,null,null,null,null,1]
[5,90,0.95256709849048671,"試合のカイセツを聞く","解説",null,null,null,null,1]
[17,105,0.4411738365286525,"きっぷをテイジする","提示",null,null,null,null,null,null,null,null,null,null,null,null,null,null,null,null,1]
[9,193,0.67613881428209222,"機械のセイドが高い","精度",null,null,null,null,null,null,null,null,1]
[8,165,0.41842132849259561,"糸をぴんとハル","張る",null,null,null,null,null,null,null,1]
[6,137,0.40079523884324531,"ケツエキを検査する","血液",null,null,null,null,null,1]
[1,9,0.43135096499988734,"本屋にヨル","寄る",1]
[4,75,5.1132061309375754E-3,"テキと和解する","敵",null,null,null,1]
[13,265,0.27771288991405618,"カコを振り返る","過去",null,null,null,null,null,null,null,null,null,null,null,null,1]
[8,174,0.28222631168456958,"ソボの着物を着る","祖母",null,null,null,null,null,null,null,1]
[12,256,0.11792355186152126,"キテイの料金をはらう","規定",null,null,null,null,null,null,null,null,null,null,null,1]
[6,129,0.75763175039407737,"ガンカ医になる","眼科",null,null,null,null,null,1]
[7,155,4.8795328861704013E-2,"里山のゾウキバヤシ","雑木林",null,null,null,null,null,null,1]
[2,34,0.15632888971431891,"カコウの近くにいる魚","河口",null,1]
[11,230,0.27184021467353447,"コウドウに集合する","講堂",null,null,null,null,null,null,null,null,null,null,1]
[6,131,0.69956392123566036,"ヒジョウグチのとびら","非常口",null,null,null,null,null,1]
[1,3,0.9232274004684875,"頭の中でソウゾウする","想像",1]
[11,237,0.47804278610944517,"アツリョクをかける","圧力",null,null,null,null,null,null,null,null,null,null,1]
[18,119,0.75837395450889455,"しんけんなタイド","態度"]
[10,208,0.88453154197874029,"ハンニンをつかまえる","犯人",null,null,null,null,null,null,null,null,null,1]
[17,113,0.18911128662560106,"コウふんしてねむれない","興",null,null,null,null,null,null,null,null,null,null,null,null,null,null,null,null,1]
[5,94,0.57990248038809511,"会議でテイアンする","提案",null,null,null,null,1]
[10,205,0.14775757139169909,"二時間でオウフクする","往復",null,null,null,null,null,null,null,null,null,1]
[11,233,0.49011248669328078,"鳥の世話をマカセル","任せる",null,null,null,null,null,null,null,null,null,null,1]
[10,217,0.98962028478193909,"数学者をココロザス","志す",null,null,null,null,null,null,null,null,null,1]
[5,92,0.73919845930719474,"気持をヒョウゲンする","表現",null,null,null,null,1]
[13,263,0.70983052886575837,"山菜をトル","採る",null,null,null,null,null,null,null,null,null,null,null,null,1]
[2,40,0.13429074452431289,"コクサイ会議を開く","国際",null,1]
[2,38,7.4407521301217416E-2,"公園に、ドウゾウが建つ","銅像",null,1]
[9,198,0.81185884925619833,"小型の電化セイヒン","製品",null,null,null,null,null,null,null,null,1]
[2,33,0.4038903474250839,"入場をキョカする","許可",null,1]
[11,234,4.2326751262397044E-2,"木のセイシツを生かす","性質",null,null,null,null,null,null,null,null,null,null,1]
[9,185,0.27663233591469971,"植物のブンプ図","分布",null,null,null,null,null,null,null,null,1]
[5,93,8.1851419987407414E-2,"シツモンが寄せられる","質問",null,null,null,null,1]
[11,227,0.25959335521011317,"勉強のコウカがでる","効果",null,null,null,null,null,null,null,null,null,null,1]
[10,203,3.1215394083694559E-3,"土地がコエテいる","肥えて",null,null,null,null,null,null,null,null,null,1]
[12,249,0.56091221568423921,"大阪にシテンを出す","支店",null,null,null,null,null,null,null,null,null,null,null,1]
[13,276,0.46105133036743429,"オン返しをする","恩",null,null,null,null,null,null,null,null,null,null,null,null,1]
[11,228,0.59409805335083377,"西洋風のケンチク物","建築",null,null,null,null,null,null,null,null,null,null,1]
[10,206,0.3467295230948535,"ブシが馬に乗る","武士",null,null,null,null,null,null,null,null,null,1]
[13,277,0.48885835072545614,"ユキガッセンをする","雪合戦",null,null,null,null,null,null,null,null,null,null,null,null,1]
[4,71,0.17274068188201686,"イギ深い仕事","意義",null,null,null,1]
[8,177,0.69238014541978354,"映画の前売りケン","券",null,null,null,null,null,null,null,1]
[1,1,0.41153418892172688,"たきぎがモエル","燃える",1]
[8,166,1.4863646284957177E-3,"使い方をシドウする","指導",null,null,null,null,null,null,null,1]
[10,201,0.67018262002842022,"テキセツに表現する","適切",null,null,null,null,null,null,null,null,null,1]
[3,41,0.45014632095508433,"ゲンザイの位置を教える","現在",null,null,1]
[1,15,0.49727956744395174,"考えをノベル","述べる",1]
[10,202,0.58076204235004969,"化学ヒリョウを使う","肥料",null,null,null,null,null,null,null,null,null,1]
[12,253,9.3307405295603885E-2,"ナイヨウを確かめる","確かめる",null,null,null,null,null,null,null,null,null,null,null,1]
[13,280,0.60363647680737442,"フナタビを楽しむ","船旅",null,null,null,null,null,null,null,null,null,null,null,null,1]
[12,242,2.7723807478355567E-2,"ジッサイにためす","実際",null,null,null,null,null,null,null,null,null,null,null,1]
[4,67,3.0994462220718E-2,"ボウサイ訓練をする","防災",null,null,null,1]
[10,219,0.64229879455305372,"イシがしん察する","医師",null,null,null,null,null,null,null,null,null,1]
[2,37,{"$f":"RAND()","v":0.5562259501954695},"荷物をアズカル","預かる",null,1]
[1,2,0.6324277264096706,"飛行機のネンリョウ","燃料",1]
[13,273,0.55670035255998662,"きぬのセイシ工場","製糸",null,null,null,null,null,null,null,null,null,null,null,null,1]
[10,218,0.43202813922668071,"ココロザシを立てる","志",null,null,null,null,null,null,null,null,null,1]
[1,6,0.5163218512305574,"やさしいセイカク","性格",1]
[3,44,9.3874472241850526E-2,"カリの住まい","仮",null,null,1]
[13,270,0.94754920036058032,"おハカに参る","墓",null,null,null,null,null,null,null,null,null,null,null,null,1]
[6,133,0.39814047349204762,"昔からデンショウされた話","伝承",null,null,null,null,null,1]
[7,146,0.54170900305260372,"不明点をシツモンする","質問",null,null,null,null,null,null,1]
[9,196,9.8430476383286059E-2,"学問をオサメル","修める",null,null,null,null,null,null,null,null,1]
[7,160,0.28235770840471208,"部屋をカス","貸す",null,null,null,null,null,null,1]
[6,135,0.88828664373145572,"ジコを防ぐ","事故",null,null,null,null,null,1]
[4,80,4.4899357728175215E-2,"学校のショクインシツ","職員室",null,null,null,1]
[7,154,0.84151199260885057,"異物がマジル","混じる",null,null,null,null,null,null,1]
[3,42,0.64200707493965636,"太い木のミキ","幹",null,null,1]
[9,182,0.37332726298417762,"ギジュツを身につける","技術",null,null,null,null,null,null,null,null,1]
[7,150,0.28526519878594836,"静かにスゴス","過ごす",null,null,null,null,null,null,1]
[2,30,0.75336918299802169,"前年度をキジュンとする","基準",null,1]
[4,69,0.28460460551503231,"イチガンとなって戦う","一丸",null,null,null,1]
[2,32,0.92351966822991727,"ヒョウバンがよい店","評判",null,1]
[1,17,0.84654824302395459,"ゲンジツの出来事","現実",1]
[12,243,0.2748433854995852,"ヨウイに答えを出す","容易",null,null,null,null,null,null,null,null,null,null,null,1]
[10,204,0.18092003344246765,"畑にコエをまく","肥",null,null,null,null,null,null,null,null,null,1]
[12,250,0.80049599070259025,"自分をセメル","責める",null,null,null,null,null,null,null,null,null,null,null,1]
[13,266,0.52877965566550944,"山にツノブエがひびく","角笛",null,null,null,null,null,null,null,null,null,null,null,null,1]
[7,143,0.23171199138821463,"先生にホウコクする","報告",null,null,null,null,null,null,1]
[7,156,0.13228396152584376,"カノウセイをさぐる","可能性",null,null,null,null,null,null,1]
[3,59,0.23931335551024036,"試合をサイカイする","再開",null,null,1]
[8,164,0.98215894558750994,"きケンをさける","険",null,null,null,null,null,null,null,1]
[7,142,0.36535077960716555,"ジョウホウを受け取る","情報",null,null,null,null,null,null,1]
[6,136,0.28985768963436309,"理科のジッケン","実験",null,null,null,null,null,1]
[13,272,0.54249307507807798,"ユニュウヒンを買う","輸入品",null,null,null,null,null,null,null,null,null,null,null,null,1]
[3,56,0.24128428114314338,"ジョウホウを集める","情報",null,null,1]
[17,109,0.13138559346764467,"ハツユメを見る","初夢",null,null,null,null,null,null,null,null,null,null,null,null,null,null,null,null,1]
[4,77,0.73466826969906429,"セイジに関心をもつ","政治",null,null,null,1]
[2,22,0.40090746682359779,"チョウカンを配る","朝刊",null,1]
[17,107,0.6146790979664023,"正しいとカテイする","仮定",null,null,null,null,null,null,null,null,null,null,null,null,null,null,null,null,1]
[6,124,0.94326298858360003,"ドウトクの時間","道徳",null,null,null,null,null,1]
[9,187,0.25433482160725851,"人工エイセイ","衛星",null,null,null,null,null,null,null,null,1]
[9,197,0.65398127976102671,"二つのヨウイン","要因",null,null,null,null,null,null,null,null,1]
[3,51,0.72379699740023684,"運動会のジュンビ","準備",null,null,1]
[3,49,0.99710145088892643,"ビデオを「セツゾク」する","接続",null,null,1]
[1,11,0.185663829889398,"犬がシタを出す","舌",1]
[1,10,0.21263265398812037,"妹にモンクを言う","文句",1]
[7,153,8.3341305320078773E-2,"道路がコンザツする","混雑",null,null,null,null,null,null,1]
[9,191,0.20086375312221871,"アイデアに「トム」","富む",null,null,null,null,null,null,null,null,1]
[5,81,0.79887024493592262,"ホクコクショを書く","報告書",null,null,null,null,1]
[7,152,0.115270779449125,"いなかにキセイする","帰省",null,null,null,null,null,null,1]
[5,88,0.13769146930007981,"ヨウゴの先生","養護",null,null,null,null,1]
[2,26,0.32661653614679642,"手本をシメス","示す",null,1]
[5,91,0.56669832296695122,"キソクを守る","規則",null,null,null,null,1]
[11,235,0.57369327612074006,"液体をマゼル","混ぜる",null,null,null,null,null,null,null,null,null,null,1]
[4,66,0.59940665088367961,"ヨ震が続く","余",null,null,null,1]
[8,162,0.80905085135338473,"はちのムレが飛ぶ","群れ",null,null,null,null,null,null,null,1]
[12,251,0.36236009016792048,"うがいのシュウカン","習慣",null,null,null,null,null,null,null,null,null,null,null,1]
[9,192,0.28880326533195455,"水がホウフにある","豊富",null,null,null,null,null,null,null,null,1]
[10,214,0.10451932749173631,"アバレル馬をおさえる","暴れる",null,null,null,null,null,null,null,null,null,1]
[13,267,0.33346380098100392,"マサユメならうれしい","正夢",null,null,null,null,null,null,null,null,null,null,null,null,1]
[12,248,0.15516141548843965,"仲間をササエル","支える",null,null,null,null,null,null,null,null,null,null,null,1]
[4,78,2.2074059845051952E-3,"ショウジキに告白する","正直",null,null,null,1]
[9,183,0.99754647127922369,"日食をカンソクする","観測",null,null,null,null,null,null,null,null,1]
[9,181,3.468605493028154E-2,"年間のヘイキン気温","平均",null,null,null,null,null,null,null,null,1]
[1,4,0.82511234051522919,"問題をカイケツする","解決",1]
[17,117,4.8540833417742513E-2,"台風がセッキンする","接近",null,null,null,null,null,null,null,null,null,null,null,null,null,null,null,null,null,1]
[7,147,{"$f":"RAND()","v":0.66573111528411677},"三かジョウのルール","条",null,null,null,null,null,null,1]
[1,20,0.95423136981827972,"かごをアム","編む",1]
[8,169,4.2229462386872085E-2,"白いカベン","花弁",null,null,null,null,null,null,null,1]
[13,271,0.24687819803327671,"ショウヒゼイ","消費税",null,null,null,null,null,null,null,null,null,null,null,null,1]
[13,274,0.16921294991842772,"ノウコウに精を出す","農耕",null,null,null,null,null,null,null,null,null,null,null,null,1]
[10,210,0.29757457897346928,"センセイテンを取る","先制点",null,null,null,null,null,null,null,null,null,1]
[10,211,0.49453846511231492,"サンセイウの被害","酸性雨",null,null,null,null,null,null,null,null,null,1]
[9,194,0.76849461570302824,"シリョウを整理する","資料",null,null,null,null,null,null,null,null,1]
[2,29,0.53047738993824312,"お客様へのタイオウ","対応",null,1]
[7,145,0.52267831425964151,"フクスウの意見","複数",null,null,null,null,null,null,1]
[9,190,9.2245592043198488E-2,"となりの町とのサカイ","境",null,null,null,null,null,null,null,null,1]
[11,239,0.16280225357633049,"タンソの量を変える","炭素",null,null,null,null,null,null,null,null,null,null,1]
[7,144,7.9595378665281658E-2,"コウカテキな利用法","効果的",null,null,null,null,null,null,1]
[9,184,0.56219055621927472,"道のはばをハカル","測る",null,null,null,null,null,null,null,null,1]
[12,258,0.12086069410542455,"簡ケツな文章を書く","潔",null,null,null,null,null,null,null,null,null,null,null,1]
[13,261,0.91723501351422809,"ニタ色の洋服","似た",null,null,null,null,null,null,null,null,null,null,null,null,1]
[11,222,0.23710654887745397,"タンカーをツクル","造る",null,null,null,null,null,null,null,null,null,null,1]
[7,151,7.4554296482790883E-2,"時間がケイカする","経過",null,null,null,null,null,null,1]
[5,87,0.50001161988202769,"クラスの「ジッタイ」","実態",null,null,null,null,1]
[6,140,0.93835932050596005,"時間をユウエキに使う","有益",null,null,null,null,null,1]
[12,252,0.42236283876423797,"寒さにナレル","慣れる",null,null,null,null,null,null,null,null,null,null,null,1]
[11,236,0.62821872598128115,"セイテツ会社で働く","製鉄",null,null,null,null,null,null,null,null,null,null,1]
[4,65,0.13550367123034823,"そうじをテツダウ","手伝う",null,null,null,1]
[17,114,0.84330825941635301,"テレビのガゾウ","画像",null,null,null,null,null,null,null,null,null,null,null,null,null,null,null,null,1]
[13,279,0.23398437850156706,"ホトケゴコロを起こす","仏心",null,null,null,null,null,null,null,null,null,null,null,null,1]
[10,220,0.53458453652710447,"真実をショウメイする","証明",null,null,null,null,null,null,null,null,null,1]
[8,168,3.6064075771074733E-2,"鳥をカイならす","飼い",null,null,null,null,null,null,null,1]
[17,111,0.23774290246720842,"大きなカワが流れる","河",null,null,null,null,null,null,null,null,null,null,null,null,null,null,null,null,1]
[13,269,4.3965391973333712E-2,"客をマネク","招く",null,null,null,null,null,null,null,null,null,null,null,null,1]
[8,163,0.52707885281277289,"トウリョウに教えられる","統領",null,null,null,null,null,null,null,1]
[17,110,0.56100050614336772,"コセイテキな人","個性的",null,null,null,null,null,null,null,null,null,null,null,null,null,null,null,null,1]
[3,43,2.6162120775068076E-2,"エダサキが分かれる","枝先",null,null,1]
[11,229,0.99822085268972627,"家庭をキズク","築く",null,null,null,null,null,null,null,null,null,null,1]
[18,120,0.70452269138895063,"サライネンは中学だ","再来年"]
[17,102,0.82090799923238111,"木のミキに巣を作る","幹",null,null,null,null,null,null,null,null,null,null,null,null,null,null,null,null,1]
[4,61,0.35385137251104504,"音楽にムチュウになる","夢中",null,null,null,1]
[8,173,0.84733122243088754,"ドイツにリュウガクする","留学",null,null,null,null,null,null,null,1]
[5,84,0.49457759475240826,"コジンテキなこと","個人的",null,null,null,null,1]
[6,125,0.86966732075565978,"ジュギョウの予習をする","授業",null,null,null,null,null,1]
[10,209,8.575326242080461E-3,"劇団のコウエンがある","公演",null,null,null,null,null,null,null,null,null,1]
[6,123,0.24839594309649582,"ブアツイ漢字辞典","分厚い",null,null,null,null,null,1]
[13,264,0.63944361650966675,"全員がダンケツする","団結",null,null,null,null,null,null,null,null,null,null,null,null,1]
[17,101,0.97601935588238731,"料理にシタづつみを打つ","舌",null,null,null,null,null,null,null,null,null,null,null,null,null,null,null,null,1]
[2,36,0.45043525865956136,"車でイドウする","移動",null,1]
[12,245,0.8221066461578419,"ケイケンを生かす","経験",null,null,null,null,null,null,null,null,null,null,null,1]
[2,31,0.25248625290379101,"このながめはゼッケイだ","絶景",null,1]
[13,278,2.7659891589837393E-2,"ネンガ状がとどく","年賀",null,null,null,null,null,null,null,null,null,null,null,null,1]
[1,19,2.2935247425354466E-2,"タンペンシュウを読む","短篇集",1]
[8,175,0.83354634353160995,"何度もシャザイする","謝罪",null,null,null,null,null,null,null,1]
[17,106,0.54571187463202619,"種類をハンベツする","判別",null,null,null,null,null,null,null,null,null,null,null,null,null,null,null,null,1]
[1,13,0.48775452742449599,"店をカマエル","構える",1]
[6,130,0.16139989779429265,"バスが「ウセツ」する","右折",null,null,null,null,null,1]
[1,5,9.3616105090921442E-2,"ごかいをトク","解く",1]
[1,18,0.83219739007401905,"太陽がアラワレル","現れる",1]
[4,73,0.23589051219732804,"両親にカンシャする","感謝",null,null,null,1]
[9,189,0.35235514253326772,"コッキョウをこえる","国境",null,null,null,null,null,null,null,null,1]
[6,128,0.14682918363908704,"秋もナカバになる","半ば",null,null,null,null,null,1]
[9,186,0.61699578523611887,"ヌノを織る","布",null,null,null,null,null,null,null,null,1]
[4,76,0.83631374505285272,"マズシイくらし","貧しい",null,null,null,1]
[2,28,0.33614320158447608,"説明をショウリャクする","省略",null,1]
[17,116,0.90846433036298235,"議案をカケツする","可決",null,null,null,null,null,null,null,null,null,null,null,null,null,null,null,null,1]
[18,118,0.36807921169230418,"本をカンコウする","刊行",null,null,null,null,null,null,null,null,null,null,null,null,null,null,null,null,null,1]
[10,213,0.2988531021037788,"ボウフウがふきあれる","暴風",null,null,null,null,null,null,null,null,null,1]
[2,35,0.46731115490340969,"タダチに出発する","直ち",null,1]
[3,47,{"$f":"RAND()","v":0.34256278316080357},"ドクジの見解","独自",null,null,1]
[5,82,0.96166799497700806,"本のナイヨウ","内容",null,null,null,null,1]
[8,167,0.84400982801616686,"米をゴヒョウ運ぶ","五俵",null,null,null,null,null,null,null,1]
[5,83,0.15245672011185152,"話をリカイする","理解",null,null,null,null,1]
[11,223,0.39913739560716244,"ジョウホウを集める","情報",null,null,null,null,null,null,null,null,null,null,1]
[7,157,0.73788946591168902,"自伝をシュッパンする","出版",null,null,null,null,null,null,1]
[12,244,0.31382110108502048,"本からチシキを得る","知識",null,null,null,null,null,null,null,null,null,null,null,1]
[11,238,0.93349606257909046,"カクジツに役目を果たす","確実",null,null,null,null,null,null,null,null,null,null,1]
[10,216,0.48106629767757703,"強いイシをもつ","意志",null,null,null,null,null,null,null,null,null,1]
[8,178,0.32743762763898876,"正月もエイギョウする","営業",null,null,null,null,null,null,null,1]
[4,68,0.99530387592421155,"セキニンをみとめる","責任",null,null,null,1]
[5,89,0.36681973497085774,"食事のチョウサをする","調査",null,null,null,null,1]
[2,21,0.58290702877284817,"求人のバイリツ","倍率",1]
[8,176,0.13101391300968357,"平和がエイキュウに続く","永久",null,null,null,null,null,null,null,1]
[9,199,0.38060398154927122,"国別にトウケイを取る","統計",null,null,null,null,null,null,null,null,1]
[5,97,2.2844941202211699E-2,"ルールをセッテイする","設定",null,null,null,null,1]
[10,207,0.21411764825944457,"ムシぶるいをする","武者",null,null,null,null,null,null,null,null,null,1]
[3,50,4.0713925446124066E-2,"コウガクな絵画","高額",null,null,1]
[8,170,0.10373212196953108,"大きさをクラベル","比べる",null,null,null,null,null,null,null,1]
[2,39,0.2920989123335348,"ボウエキがさかんだ","貿易",null,1]
[6,139,0.1035208044499748,"森の中でマヨウ","迷う",null,null,null,null,null,1]
[1,14,0.16325215463617304,"グタイテキに話す","具体的",1]
[2,25,0.45464729639912205,"テレビのホウドウ番組","報道",null,1]
[11,240,0.40369386893740311,"ねじをギャクに回す","逆",null,null,null,null,null,null,null,null,null,null,1]
[14,281,0.24734030540687535,"ヒトリゴトを言う","独り言",null,null,null,null,null,null,null,null,null,null,null,null,null,1]
[14,282,0.91272763294893611,"カナグがさびる","金具",null,null,null,null,null,null,null,null,null,null,null,null,null,1]
[14,283,0.27222271538853959,"ヨケイな物をします","余計",null,null,null,null,null,null,null,null,null,null,null,null,null,1]
[14,284,0.90778992719437634,"少しカッコウが悪い","格好",null,null,null,null,null,null,null,null,null,null,null,null,null,1]
[14,285,0.49354393297963584,"わらをアム","編む",null,null,null,null,null,null,null,null,null,null,null,null,null,1]
[14,286,0.38409701313203248,"ブサイクなぼうし","不細工",null,null,null,null,null,null,null,null,null,null,null,null,null,1]
[14,287,0.79327710540899143,"うでのいいショクニン","職人",null,null,null,null,null,null,null,null,null,null,null,null,null,1]
[14,288,0.95034219569020995,"ノートに書きトメル","留める",null,null,null,null,null,null,null,null,null,null,null,null,null,1]
[14,289,1.6128544710940496E-3,"物語のコウセイ","構成",null,null,null,null,null,null,null,null,null,null,null,null,null,1]
[14,290,0.69938414007112792,"勉強にコウカがある","効果",null,null,null,null,null,null,null,null,null,null,null,null,null,1]
[14,291,0.22897492855656831,"やさしいセイカク","性格",null,null,null,null,null,null,null,null,null,null,null,null,null,1]
[14,292,0.77904833677325835,"ジンブツゾウが分かる","人物像",null,null,null,null,null,null,null,null,null,null,null,null,null,1]
[14,293,0.53837724839644729,"カンヨウ的な表現","慣用",null,null,null,null,null,null,null,null,null,null,null,null,null,1]
[14,294,0.56329362541188499,"校庭のサクラ","桜",null,null,null,null,null,null,null,null,null,null,null,null,null,1]
[14,295,0.41136443711452475,"コウシャのまどをみがく","校舎",null,null,null,null,null,null,null,null,null,null,null,null,null,1]
[14,296,0.21148026053067248,"期限をセッテイする","設定",null,null,null,null,null,null,null,null,null,null,null,null,null,1]
[14,297,3.0285801477791696E-2,"明日、タイインする","退院",null,null,null,null,null,null,null,null,null,null,null,null,null,1]
[14,298,0.5381042708351258,"一歩シリジク","退く",null,null,null,null,null,null,null,null,null,null,null,null,null,1]
[14,299,0.12009714971038243,"胃のケンサをする","検査",null,null,null,null,null,null,null,null,null,null,null,null,null,1]
[14,300,0.87424154888678529,"意見をノベル","述べる",null,null,null,null,null,null,null,null,null,null,null,null,null,1]
[15,301,0.77231987125497026,"ハカクの安さ","破格",null,null,null,null,null,null,null,null,null,null,null,null,null,null,1]
[15,302,0.68912863000549185,"もものセック","節句",null,null,null,null,null,null,null,null,null,null,null,null,null,null,1]
[15,303,0.39230022818708066,"姉はコウサイはんいが広い","交際",null,null,null,null,null,null,null,null,null,null,null,null,null,null,1]
[15,304,7.1200974442299669E-2,"公私をコンドウしない","混同",null,null,null,null,null,null,null,null,null,null,null,null,null,null,1]
[15,305,0.62802453667111968,"ヒョウギカイを開く","評議会",null,null,null,null,null,null,null,null,null,null,null,null,null,null,1]
[15,306,5.4230296957911706E-2,"ヒジョウシキな行い","非常識",null,null,null,null,null,null,null,null,null,null,null,null,null,null,1]
[15,307,0.71517807201102335,"大学キョウジュに会う","教授",null,null,null,null,null,null,null,null,null,null,null,null,null,null,1]
[15,308,0.19998697044527913,"たのみをショウチする","承知",null,null,null,null,null,null,null,null,null,null,null,null,null,null,1]
[15,309,0.55604665500653438,"スキーの「フクゴウ」競技","複合",null,null,null,null,null,null,null,null,null,null,null,null,null,null,1]
[15,310,0.43710445673324561,"天気ヨホウを見る","予報",null,null,null,null,null,null,null,null,null,null,null,null,null,null,1]
[15,311,0.42891783377258774,"本のゾクヘンを読む","続編",null,null,null,null,null,null,null,null,null,null,null,null,null,null,1]
[15,312,0.64363337082117,"ハンダンを下す","判断",null,null,null,null,null,null,null,null,null,null,null,null,null,null,1]
[15,313,0.4460234791463572,"チャクガンテンがよい","着眼点",null,null,null,null,null,null,null,null,null,null,null,null,null,null,1]
[15,314,0.99093540439606798,"流れにサカラウ","逆らう",null,null,null,null,null,null,null,null,null,null,null,null,null,null,1]
[15,315,4.3031452938306347E-2,"事務所をモウケル","設ける",null,null,null,null,null,null,null,null,null,null,null,null,null,null,1]
[15,316,0.60507190201209882,"意見にサンドウする","賛同",null,null,null,null,null,null,null,null,null,null,null,null,null,null,1]
[15,317,0.61839926956601787,"大きなソンシツを出す","損失",null,null,null,null,null,null,null,null,null,null,null,null,null,null,1]
[15,318,0.49396646494087981,"ノウリツのよい仕事","能率",null,null,null,null,null,null,null,null,null,null,null,null,null,null,1]
[15,319,0.93530392636823778,"進化のカテイ","過程",null,null,null,null,null,null,null,null,null,null,null,null,null,null,1]
[15,320,0.3513652298130534,"トクヨウヒンを売る","徳用品を売る",null,null,null,null,null,null,null,null,null,null,null,null,null,null,1]
[16,321,{"$f":"RAND()","v":0.35817371233022455},"人のナサケにすがる","情け",null,null,null,null,null,null,null,null,null,null,null,null,null,null,null,1]
[16,322,0.83612999311749348,"子どもをホゴする","保護",null,null,null,null,null,null,null,null,null,null,null,null,null,null,null,1]
[16,323,0.36208182473270134,"キヤクを守る","規約",null,null,null,null,null,null,null,null,null,null,null,null,null,null,null,1]
[16,324,0.85320288573531855,"シャレイをわたす","謝礼",null,null,null,null,null,null,null,null,null,null,null,null,null,null,null,1]
[16,325,0.97122609918627023,"漁がカイキンされる","解禁",null,null,null,null,null,null,null,null,null,null,null,null,null,null,null,1]
[16,326,0.14992791067663125,"ケワシイ山に登る","険しい",null,null,null,null,null,null,null,null,null,null,null,null,null,null,null,1]
[16,327,0.63869575151301883,"客を席にミチビク","導く",null,null,null,null,null,null,null,null,null,null,null,null,null,null,null,1]
[16,328,0.34327503343300869,"ナガイ年月が過ぎる","永い",null,null,null,null,null,null,null,null,null,null,null,null,null,null,null,1]
[16,329,0.51157384905140135,"ソセンヲ祭る","祖先",null,null,null,null,null,null,null,null,null,null,null,null,null,null,null,1]
[16,330,0.72578278848288669,"ココロヨイ春風","快い",null,null,null,null,null,null,null,null,null,null,null,null,null,null,null,1]
[16,331,0.3333020848589604,"遠足のベントウを作る","弁当",null,null,null,null,null,null,null,null,null,null,null,null,null,null,null,1]
[16,332,0.22271952624687952,"ゲンインが分かる","原因",null,null,null,null,null,null,null,null,null,null,null,null,null,null,null,1]
[16,333,0.61339587099170023,"ヒサシブリに会う","久しぶり",null,null,null,null,null,null,null,null,null,null,null,null,null,null,null,1]
[16,334,0.67321587991187448,"キントウに分ける","均等",null,null,null,null,null,null,null,null,null,null,null,null,null,null,null,1]
[16,335,0.79896307920993348,"交通量がゲンショウする","減少",null,null,null,null,null,null,null,null,null,null,null,null,null,null,null,1]
[16,336,0.53721338384693007,"リョウチを治める","領地",null,null,null,null,null,null,null,null,null,null,null,null,null,null,null,1]
[16,337,0.695330850524705,"びらをハイフする","配布",null,null,null,null,null,null,null,null,null,null,null,null,null,null,null,1]
[16,338,0.81937710902093053,"シュジュツが成功する","手術",null,null,null,null,null,null,null,null,null,null,null,null,null,null,null,1]
[16,339,0.5988796740328387,"ギムを果たす","義務",null,null,null,null,null,null,null,null,null,null,null,null,null,null,null,1]
[16,340,0.68733951620844003,"サカアガリ","逆上がり",null,null,null,null,null,null,null,null,null,null,null,null,null,null,null,1]
[17,341,9.8540806672895442E-2,"ゲイジュツ家","芸術",null,null,null,null,null,null,null,null,null,null,null,null,null,null,null,null,1]
[17,342,0.51978797214040973,"セイケツな台所","清潔",null,null,null,null,null,null,null,null,null,null,null,null,null,null,null,null,1]
[17,342,0.51472792026829373,"体重ソクテイ","測定",null,null,null,null,null,null,null,null,null,null,null,null,null,null,null,null,1]